BEGIN:VCALENDAR
VERSION:2.0
PRODID:-//meinUFG - ECPv6.2.3.2//NONSGML v1.0//EN
CALSCALE:GREGORIAN
METHOD:PUBLISH
X-WR-CALNAME:meinUFG
X-ORIGINAL-URL:https://www.meinufg.de
X-WR-CALDESC:Veranstaltungen für meinUFG
REFRESH-INTERVAL;VALUE=DURATION:PT1H
X-Robots-Tag:noindex
X-PUBLISHED-TTL:PT1H
BEGIN:VTIMEZONE
TZID:Europe/Berlin
BEGIN:DAYLIGHT
TZOFFSETFROM:+0100
TZOFFSETTO:+0200
TZNAME:CEST
DTSTART:20230326T010000
END:DAYLIGHT
BEGIN:STANDARD
TZOFFSETFROM:+0200
TZOFFSETTO:+0100
TZNAME:CET
DTSTART:20231029T010000
END:STANDARD
END:VTIMEZONE
BEGIN:VEVENT
DTSTART;TZID=Europe/Berlin:20231101T163000
DTEND;TZID=Europe/Berlin:20231101T163000
DTSTAMP:20260425T123439
CREATED:20231026T105439Z
LAST-MODIFIED:20231030T210157Z
UID:10000361-1698856200-1698856200@www.meinufg.de
SUMMARY:SC Isaria Männer II - SC Anger II
DESCRIPTION:
URL:https://www.meinufg.de/event/sc-isaria-maenner-ii-gegen-sc-anger-ii-oberliga/
LOCATION:Sportzentrum\, Jahnstraße 5\, Unterföhring\, 85774
CATEGORIES:Sport
ORGANIZER;CN="SC Isaria Ringen":MAILTO:ringen@scisaria.de
END:VEVENT
BEGIN:VEVENT
DTSTART;TZID=Europe/Berlin:20231101T180000
DTEND;TZID=Europe/Berlin:20231101T180000
DTSTAMP:20260425T123439
CREATED:20231026T105632Z
LAST-MODIFIED:20231030T210118Z
UID:10000362-1698861600-1698861600@www.meinufg.de
SUMMARY:SC Isaria Männer I - SC Anger I
DESCRIPTION:
URL:https://www.meinufg.de/event/sc-isaria-maenner-i-sc-anger-i/
LOCATION:Sportzentrum\, Jahnstraße 5\, Unterföhring\, 85774
CATEGORIES:Sport
ORGANIZER;CN="SC Isaria Ringen":MAILTO:ringen@scisaria.de
END:VEVENT
END:VCALENDAR