BEGIN:VCALENDAR
VERSION:2.0
PRODID:-//meinUFG - ECPv6.2.3.2//NONSGML v1.0//EN
CALSCALE:GREGORIAN
METHOD:PUBLISH
X-WR-CALNAME:meinUFG
X-ORIGINAL-URL:https://www.meinufg.de
X-WR-CALDESC:Veranstaltungen für meinUFG
REFRESH-INTERVAL;VALUE=DURATION:PT1H
X-Robots-Tag:noindex
X-PUBLISHED-TTL:PT1H
BEGIN:VTIMEZONE
TZID:Europe/Berlin
BEGIN:DAYLIGHT
TZOFFSETFROM:+0100
TZOFFSETTO:+0200
TZNAME:CEST
DTSTART:20230326T010000
END:DAYLIGHT
BEGIN:STANDARD
TZOFFSETFROM:+0200
TZOFFSETTO:+0100
TZNAME:CET
DTSTART:20231029T010000
END:STANDARD
END:VTIMEZONE
BEGIN:VEVENT
DTSTART;TZID=Europe/Berlin:20231117T150000
DTEND;TZID=Europe/Berlin:20231117T170000
DTSTAMP:20260425T123427
CREATED:20231116T162217Z
LAST-MODIFIED:20231116T162233Z
UID:10001667-1700233200-1700240400@www.meinufg.de
SUMMARY:Flohmarkt in der Aula des Gymnasiums Unterföhring
DESCRIPTION:
URL:https://www.meinufg.de/event/flohmarkt-in-der-aula-des-gymnasiums-unterfoehring/
CATEGORIES:Veranstaltung
ATTACH;FMTTYPE=image/jpeg:https://www.meinufg.de/wp-content/uploads/2023/10/pexels-cottonbro-studio-6068960-scaled-e1696513805394.webp
END:VEVENT
BEGIN:VEVENT
DTSTART;TZID=Europe/Berlin:20231117T200000
DTEND;TZID=Europe/Berlin:20231117T200000
DTSTAMP:20260425T123427
CREATED:20231017T070442Z
LAST-MODIFIED:20231115T123309Z
UID:10000351-1700251200-1700251200@www.meinufg.de
SUMMARY:Herbsttheater * Im Pfarrhaus ist der Deifi los
DESCRIPTION:
URL:https://www.meinufg.de/event/herbsttheater-im-pfarrhaus-ist-der-deifi-los-4/
LOCATION:Bürgerhaus Unterföhring\, Münchner Str. 65\, Unterföhring\, 85774
CATEGORIES:Veranstaltung
ATTACH;FMTTYPE=image/jpeg:https://www.meinufg.de/wp-content/uploads/2023/11/Theater.jpg
ORGANIZER;CN="LSG Unterf%C3%B6hring":MAILTO:info@lsg-unterfoehring.de
END:VEVENT
END:VCALENDAR