BEGIN:VCALENDAR
VERSION:2.0
PRODID:-//meinUFG - ECPv6.2.3.2//NONSGML v1.0//EN
CALSCALE:GREGORIAN
METHOD:PUBLISH
X-WR-CALNAME:meinUFG
X-ORIGINAL-URL:https://www.meinufg.de
X-WR-CALDESC:Veranstaltungen für meinUFG
REFRESH-INTERVAL;VALUE=DURATION:PT1H
X-Robots-Tag:noindex
X-PUBLISHED-TTL:PT1H
BEGIN:VTIMEZONE
TZID:Europe/Berlin
BEGIN:DAYLIGHT
TZOFFSETFROM:+0100
TZOFFSETTO:+0200
TZNAME:CEST
DTSTART:20230326T010000
END:DAYLIGHT
BEGIN:STANDARD
TZOFFSETFROM:+0200
TZOFFSETTO:+0100
TZNAME:CET
DTSTART:20231029T010000
END:STANDARD
END:VTIMEZONE
BEGIN:VEVENT
DTSTART;TZID=Europe/Berlin:20231125T080000
DTEND;TZID=Europe/Berlin:20231125T130000
DTSTAMP:20260425T123456
CREATED:20231027T051848Z
LAST-MODIFIED:20231030T220154Z
UID:10000643-1700899200-1700917200@www.meinufg.de
SUMMARY:Wochenmarkt in Unterföhring
DESCRIPTION:
URL:https://www.meinufg.de/event/wochenmarkt-in-unterfoehring/2023-11-25/
LOCATION:Bürgerhaus Unterföhring\, Münchner Str. 65\, Unterföhring\, 85774
CATEGORIES:Veranstaltung
ATTACH;FMTTYPE=image/webp:https://www.meinufg.de/wp-content/uploads/2023/10/Wochenmarkt-scaled-e1698703250730.webp
ORGANIZER;CN="Gemeinde Unterf%C3%B6hring":MAILTO:info@unterfoehring.de
END:VEVENT
BEGIN:VEVENT
DTSTART;TZID=Europe/Berlin:20231125T093000
DTEND;TZID=Europe/Berlin:20231125T170000
DTSTAMP:20260425T123456
CREATED:20231012T134528Z
LAST-MODIFIED:20231030T221921Z
UID:10000343-1700904600-1700931600@www.meinufg.de
SUMMARY:Jubiläumsfeier - 150 Jahre Grundschule Unterföhring
DESCRIPTION:
URL:https://www.meinufg.de/event/jubilaeumsfeier-150-jahre-grundschule-unterfoehring/
LOCATION:Grundschule Unterföhring\, Mitterfeldallee 17\, Unterföhring\, 8574
CATEGORIES:Veranstaltung
ATTACH;FMTTYPE=image/webp:https://www.meinufg.de/wp-content/uploads/2023/10/picture-scaled-e1698704298964.webp
END:VEVENT
BEGIN:VEVENT
DTSTART;TZID=Europe/Berlin:20231125T180000
DTEND;TZID=Europe/Berlin:20231125T180000
DTSTAMP:20260425T123456
CREATED:20231026T141729Z
LAST-MODIFIED:20231115T124446Z
UID:10000366-1700935200-1700935200@www.meinufg.de
SUMMARY:SC Isaria Schüler I - TSV Westendorf II
DESCRIPTION:
URL:https://www.meinufg.de/event/sc-isaria-schueler-i-tsv-westendorf-ii/
LOCATION:Sportzentrum\, Jahnstraße 5\, Unterföhring\, 85774
CATEGORIES:Sport
ATTACH;FMTTYPE=image/jpeg:https://www.meinufg.de/wp-content/uploads/2023/11/Ringen-scaled-e1700052070221.jpg
ORGANIZER;CN="SC Isaria Ringen":MAILTO:ringen@scisaria.de
END:VEVENT
BEGIN:VEVENT
DTSTART;TZID=Europe/Berlin:20231125T193000
DTEND;TZID=Europe/Berlin:20231125T193000
DTSTAMP:20260425T123456
CREATED:20231026T141851Z
LAST-MODIFIED:20231115T124326Z
UID:10000367-1700940600-1700940600@www.meinufg.de
SUMMARY:SC Isaria Männer I - ASV Hof
DESCRIPTION:
URL:https://www.meinufg.de/event/sc-isaria-maenner-i-asv-hof/
LOCATION:Sportzentrum\, Jahnstraße 5\, Unterföhring\, 85774
CATEGORIES:Sport
ATTACH;FMTTYPE=image/jpeg:https://www.meinufg.de/wp-content/uploads/2023/11/Ringen-scaled-e1700052070221.jpg
ORGANIZER;CN="SC Isaria Ringen":MAILTO:ringen@scisaria.de
END:VEVENT
END:VCALENDAR