BEGIN:VCALENDAR
VERSION:2.0
PRODID:-//meinUFG - ECPv6.2.3.2//NONSGML v1.0//EN
CALSCALE:GREGORIAN
METHOD:PUBLISH
X-WR-CALNAME:meinUFG
X-ORIGINAL-URL:https://www.meinufg.de
X-WR-CALDESC:Veranstaltungen für meinUFG
REFRESH-INTERVAL;VALUE=DURATION:PT1H
X-Robots-Tag:noindex
X-PUBLISHED-TTL:PT1H
BEGIN:VTIMEZONE
TZID:Europe/Berlin
BEGIN:DAYLIGHT
TZOFFSETFROM:+0100
TZOFFSETTO:+0200
TZNAME:CEST
DTSTART:20230326T010000
END:DAYLIGHT
BEGIN:STANDARD
TZOFFSETFROM:+0200
TZOFFSETTO:+0100
TZNAME:CET
DTSTART:20231029T010000
END:STANDARD
END:VTIMEZONE
BEGIN:VEVENT
DTSTART;VALUE=DATE:20231205
DTEND;VALUE=DATE:20231208
DTSTAMP:20260425T124044
CREATED:20231030T225132Z
LAST-MODIFIED:20231115T124726Z
UID:10001651-1701734400-1701993599@www.meinufg.de
SUMMARY:Nikolausgehen im Unterföhringer Gebiet
DESCRIPTION:Anmeldezettel sind in der Möven- und in der Feringa-Apotheke\, sowie online über nikolaus@kolping-unterfoehring.de erhältlich
URL:https://www.meinufg.de/event/nikolausgehen-im-unterfoehringer-gebiet/2023-12-05/
CATEGORIES:Veranstaltung
ATTACH;FMTTYPE=image/jpeg:https://www.meinufg.de/wp-content/uploads/2023/10/Nikolaus.jpg
END:VEVENT
BEGIN:VEVENT
DTSTART;VALUE=DATE:20231206
DTEND;VALUE=DATE:20231209
DTSTAMP:20260425T124044
CREATED:20231030T225132Z
LAST-MODIFIED:20231115T124726Z
UID:10001652-1701820800-1702079999@www.meinufg.de
SUMMARY:Nikolausgehen im Unterföhringer Gebiet
DESCRIPTION:Anmeldezettel sind in der Möven- und in der Feringa-Apotheke\, sowie online über nikolaus@kolping-unterfoehring.de erhältlich
URL:https://www.meinufg.de/event/nikolausgehen-im-unterfoehringer-gebiet/2023-12-06/
CATEGORIES:Veranstaltung
ATTACH;FMTTYPE=image/jpeg:https://www.meinufg.de/wp-content/uploads/2023/10/Nikolaus.jpg
END:VEVENT
END:VCALENDAR