BEGIN:VCALENDAR
VERSION:2.0
PRODID:-//meinUFG - ECPv6.2.3.2//NONSGML v1.0//EN
CALSCALE:GREGORIAN
METHOD:PUBLISH
X-WR-CALNAME:meinUFG
X-ORIGINAL-URL:https://www.meinufg.de
X-WR-CALDESC:Veranstaltungen für meinUFG
REFRESH-INTERVAL;VALUE=DURATION:PT1H
X-Robots-Tag:noindex
X-PUBLISHED-TTL:PT1H
BEGIN:VTIMEZONE
TZID:Europe/Berlin
BEGIN:DAYLIGHT
TZOFFSETFROM:+0100
TZOFFSETTO:+0200
TZNAME:CEST
DTSTART:20240331T010000
END:DAYLIGHT
BEGIN:STANDARD
TZOFFSETFROM:+0200
TZOFFSETTO:+0100
TZNAME:CET
DTSTART:20241027T010000
END:STANDARD
END:VTIMEZONE
BEGIN:VEVENT
DTSTART;VALUE=DATE:20240203
DTEND;VALUE=DATE:20240204
DTSTAMP:20260421T111850
CREATED:20240116T154214Z
LAST-MODIFIED:20240120T073529Z
UID:10001711-1706918400-1707004799@www.meinufg.de
SUMMARY:Blaskapelle – Neujahrskonzert
DESCRIPTION:
URL:https://www.meinufg.de/event/blaskapelle-neujahrskonzert/
CATEGORIES:Musik,Veranstaltung
ATTACH;FMTTYPE=image/jpeg:https://www.meinufg.de/wp-content/uploads/2024/01/coming-soon.jpeg
END:VEVENT
BEGIN:VEVENT
DTSTART;TZID=Europe/Berlin:20240203T080000
DTEND;TZID=Europe/Berlin:20240203T130000
DTSTAMP:20260421T111850
CREATED:20231027T051848Z
LAST-MODIFIED:20231030T220154Z
UID:10000653-1706947200-1706965200@www.meinufg.de
SUMMARY:Wochenmarkt in Unterföhring
DESCRIPTION:
URL:https://www.meinufg.de/event/wochenmarkt-in-unterfoehring/2024-02-03/
LOCATION:Bürgerhaus Unterföhring\, Münchner Str. 65\, Unterföhring\, 85774
CATEGORIES:Veranstaltung
ATTACH;FMTTYPE=image/webp:https://www.meinufg.de/wp-content/uploads/2023/10/Wochenmarkt-scaled-e1698703250730.webp
ORGANIZER;CN="Gemeinde Unterf%C3%B6hring":MAILTO:info@unterfoehring.de
END:VEVENT
BEGIN:VEVENT
DTSTART;TZID=Europe/Berlin:20240203T180000
DTEND;TZID=Europe/Berlin:20240203T213000
DTSTAMP:20260421T111850
CREATED:20240116T152617Z
LAST-MODIFIED:20240116T152802Z
UID:10001710-1706983200-1706995800@www.meinufg.de
SUMMARY:Kolpingsfamilie – Celebration Saturday (9-13 Jahre)
DESCRIPTION:
URL:https://www.meinufg.de/event/kolpingsfamilie-celebration-saturday-unterfoehring/
LOCATION:Kath. Pfarrzentum\, St.-Valentin Weg 1\, Unterföhring\, 85774
CATEGORIES:Musik,Veranstaltung
ATTACH;FMTTYPE=image/jpeg:https://www.meinufg.de/wp-content/uploads/2024/01/Disco.jpeg
END:VEVENT
BEGIN:VEVENT
DTSTART;TZID=Europe/Berlin:20240203T193000
DTEND;TZID=Europe/Berlin:20240203T193000
DTSTAMP:20260421T111850
CREATED:20240121T180109Z
LAST-MODIFIED:20240121T180114Z
UID:10001715-1706988600-1706988600@www.meinufg.de
SUMMARY:Blaskapelle Unterföhring & Jugend- und Nachwuchskapelle "On Stage"
DESCRIPTION:
URL:https://www.meinufg.de/event/blaskapelle-unterfoehring-jugend-und-nachwuchskapelle-on-stage/
LOCATION:Bürgerhaus Unterföhring\, Münchner Str. 65\, Unterföhring\, 85774
CATEGORIES:Musik
ATTACH;FMTTYPE=image/jpeg:https://www.meinufg.de/wp-content/uploads/2023/06/pexels-ruca-souza-1049690-scaled-e1694283419828.jpg
END:VEVENT
END:VCALENDAR