BEGIN:VCALENDAR
VERSION:2.0
PRODID:-//meinUFG - ECPv6.2.3.2//NONSGML v1.0//EN
CALSCALE:GREGORIAN
METHOD:PUBLISH
X-WR-CALNAME:meinUFG
X-ORIGINAL-URL:https://www.meinufg.de
X-WR-CALDESC:Veranstaltungen für meinUFG
REFRESH-INTERVAL;VALUE=DURATION:PT1H
X-Robots-Tag:noindex
X-PUBLISHED-TTL:PT1H
BEGIN:VTIMEZONE
TZID:Europe/Berlin
BEGIN:DAYLIGHT
TZOFFSETFROM:+0100
TZOFFSETTO:+0200
TZNAME:CEST
DTSTART:20240331T010000
END:DAYLIGHT
BEGIN:STANDARD
TZOFFSETFROM:+0200
TZOFFSETTO:+0100
TZNAME:CET
DTSTART:20241027T010000
END:STANDARD
END:VTIMEZONE
BEGIN:VEVENT
DTSTART;TZID=Europe/Berlin:20240229T181500
DTEND;TZID=Europe/Berlin:20240229T181500
DTSTAMP:20260419T233131
CREATED:20240224T133216Z
LAST-MODIFIED:20240224T133216Z
UID:10001739-1709230500-1709230500@www.meinufg.de
SUMMARY:Öffentliche Sitzung des Umwelt-\, Digital- und Energieausschusses
DESCRIPTION:
URL:https://www.meinufg.de/event/oeffentliche-sitzung-des-umwelt-digital-und-energieausschusses/
LOCATION:Gemeinde Unterföhring\, Münchner Str. 70\, Unterföhring\, 85774
CATEGORIES:Politik
ATTACH;FMTTYPE=image/jpeg:https://www.meinufg.de/wp-content/uploads/2023/09/pexels-luis-quintero-2774556-scaled-e1694283533442.jpg
ORGANIZER;CN="Gemeinde Unterf%C3%B6hring":MAILTO:info@unterfoehring.de
END:VEVENT
END:VCALENDAR