BEGIN:VCALENDAR
VERSION:2.0
PRODID:-//meinUFG - ECPv6.2.3.2//NONSGML v1.0//EN
CALSCALE:GREGORIAN
METHOD:PUBLISH
X-ORIGINAL-URL:https://www.meinufg.de
X-WR-CALDESC:Veranstaltungen für meinUFG
REFRESH-INTERVAL;VALUE=DURATION:PT1H
X-Robots-Tag:noindex
X-PUBLISHED-TTL:PT1H
BEGIN:VTIMEZONE
TZID:Europe/Berlin
BEGIN:DAYLIGHT
TZOFFSETFROM:+0100
TZOFFSETTO:+0200
TZNAME:CEST
DTSTART:20240331T010000
END:DAYLIGHT
BEGIN:STANDARD
TZOFFSETFROM:+0200
TZOFFSETTO:+0100
TZNAME:CET
DTSTART:20241027T010000
END:STANDARD
END:VTIMEZONE
BEGIN:VEVENT
DTSTART;TZID=Europe/Berlin:20240302T080000
DTEND;TZID=Europe/Berlin:20240302T130000
DTSTAMP:20260419T233447
CREATED:20231027T051848Z
LAST-MODIFIED:20231030T220154Z
UID:10000657-1709366400-1709384400@www.meinufg.de
SUMMARY:Wochenmarkt in Unterföhring
DESCRIPTION:
URL:https://www.meinufg.de/event/wochenmarkt-in-unterfoehring/2024-03-02/
LOCATION:Bürgerhaus Unterföhring\, Münchner Str. 65\, Unterföhring\, 85774
CATEGORIES:Veranstaltung
ATTACH;FMTTYPE=image/webp:https://www.meinufg.de/wp-content/uploads/2023/10/Wochenmarkt-scaled-e1698703250730.webp
ORGANIZER;CN="Gemeinde Unterf%C3%B6hring":MAILTO:info@unterfoehring.de
END:VEVENT
BEGIN:VEVENT
DTSTART;TZID=Europe/Berlin:20240302T090000
DTEND;TZID=Europe/Berlin:20240302T090000
DTSTAMP:20260419T233447
CREATED:20240226T071819Z
LAST-MODIFIED:20240226T071819Z
UID:10001741-1709370000-1709370000@www.meinufg.de
SUMMARY:FC Unterföhring U8-3 - FC Eintracht München U8-2
DESCRIPTION:
URL:https://www.meinufg.de/event/fc-unterfoehring-u8-3-fc-eintracht-muenchen-u8-2/
LOCATION:Sportanlage Unterföhring\, Dammstr.\, Unterföhring
CATEGORIES:Sport
ATTACH;FMTTYPE=image/jpeg:https://www.meinufg.de/wp-content/uploads/2023/11/FCU.jpg
ORGANIZER;CN="FC Unterf%C3%B6hring 1927 e.V.":MAILTO:info@fcunterfoehring.de
END:VEVENT
BEGIN:VEVENT
DTSTART;TZID=Europe/Berlin:20240302T090000
DTEND;TZID=Europe/Berlin:20240302T090000
DTSTAMP:20260419T233447
CREATED:20240226T072006Z
LAST-MODIFIED:20240226T072006Z
UID:10001742-1709370000-1709370000@www.meinufg.de
SUMMARY:FC Unterföhring U8-1 - TSV Ottobrunn U8
DESCRIPTION:
URL:https://www.meinufg.de/event/fc-unterfoehring-u8-1-tsv-ottobrunn-u8/
LOCATION:Sportanlage Unterföhring\, Dammstr.\, Unterföhring
CATEGORIES:Sport
ATTACH;FMTTYPE=image/jpeg:https://www.meinufg.de/wp-content/uploads/2023/11/FCU.jpg
ORGANIZER;CN="FC Unterf%C3%B6hring 1927 e.V.":MAILTO:info@fcunterfoehring.de
END:VEVENT
BEGIN:VEVENT
DTSTART;TZID=Europe/Berlin:20240302T093000
DTEND;TZID=Europe/Berlin:20240302T093000
DTSTAMP:20260419T233447
CREATED:20240226T072129Z
LAST-MODIFIED:20240226T072129Z
UID:10001743-1709371800-1709371800@www.meinufg.de
SUMMARY:FC Unterföhring U10-1 - FC Biberg U10-1
DESCRIPTION:
URL:https://www.meinufg.de/event/fc-unterfoehring-u10-1-fc-biberg-u10-1/
LOCATION:Sportanlage Unterföhring\, Dammstr.\, Unterföhring
CATEGORIES:Sport
ATTACH;FMTTYPE=image/jpeg:https://www.meinufg.de/wp-content/uploads/2023/11/FCU.jpg
ORGANIZER;CN="FC Unterf%C3%B6hring 1927 e.V.":MAILTO:info@fcunterfoehring.de
END:VEVENT
BEGIN:VEVENT
DTSTART;TZID=Europe/Berlin:20240302T100000
DTEND;TZID=Europe/Berlin:20240302T100000
DTSTAMP:20260419T233447
CREATED:20240226T072405Z
LAST-MODIFIED:20240226T072405Z
UID:10001744-1709373600-1709373600@www.meinufg.de
SUMMARY:FC Unterföhring U10-4 - SG Aschheim/Dornach U10-2
DESCRIPTION:
URL:https://www.meinufg.de/event/fc-unterfoehring-u10-4-sg-aschheim-dornach-u10-2/
LOCATION:Sportplatz\, Unterer Aschheimer Weg 5\, Unterföhring\, 85774
CATEGORIES:Sport
ATTACH;FMTTYPE=image/jpeg:https://www.meinufg.de/wp-content/uploads/2023/11/FCU.jpg
ORGANIZER;CN="FC Unterf%C3%B6hring 1927 e.V.":MAILTO:info@fcunterfoehring.de
END:VEVENT
BEGIN:VEVENT
DTSTART;TZID=Europe/Berlin:20240302T100000
DTEND;TZID=Europe/Berlin:20240302T140000
DTSTAMP:20260419T233447
CREATED:20240301T092424Z
LAST-MODIFIED:20240301T092424Z
UID:10001766-1709373600-1709388000@www.meinufg.de
SUMMARY:Winterendspurt im Kleiderbügel
DESCRIPTION:
URL:https://www.meinufg.de/event/winterendspurt-im-kleiderbuegel/
CATEGORIES:Veranstaltung
ATTACH;FMTTYPE=image/jpeg:https://www.meinufg.de/wp-content/uploads/2023/10/pexels-cottonbro-studio-6068960-scaled-e1696513805394.webp
ORGANIZER;CN="Nachbarschaftshilfe":MAILTO:nbhufg@arcor.de
END:VEVENT
BEGIN:VEVENT
DTSTART;TZID=Europe/Berlin:20240302T103000
DTEND;TZID=Europe/Berlin:20240302T103000
DTSTAMP:20260419T233447
CREATED:20240226T072531Z
LAST-MODIFIED:20240226T072531Z
UID:10001745-1709375400-1709375400@www.meinufg.de
SUMMARY:FC Unterföhring U8-2 - SV Italia 1965 München U7
DESCRIPTION:
URL:https://www.meinufg.de/event/fc-unterfoehring-u8-2-sv-italia-1965-muenchen-u7/
LOCATION:Sportanlage Unterföhring\, Dammstr.\, Unterföhring
CATEGORIES:Sport
ATTACH;FMTTYPE=image/jpeg:https://www.meinufg.de/wp-content/uploads/2023/11/FCU.jpg
ORGANIZER;CN="FC Unterf%C3%B6hring 1927 e.V.":MAILTO:info@fcunterfoehring.de
END:VEVENT
BEGIN:VEVENT
DTSTART;TZID=Europe/Berlin:20240302T114500
DTEND;TZID=Europe/Berlin:20240302T114500
DTSTAMP:20260419T233447
CREATED:20240226T073043Z
LAST-MODIFIED:20240226T073043Z
UID:10001746-1709379900-1709379900@www.meinufg.de
SUMMARY:FC Unterföhring U13-1 - TSV Milbertshofen
DESCRIPTION:
URL:https://www.meinufg.de/event/fc-unterfoehring-u13-1-tsv-milbertshofen/
LOCATION:Sportanlage Unterföhring\, Dammstr.\, Unterföhring
CATEGORIES:Sport
ATTACH;FMTTYPE=image/jpeg:https://www.meinufg.de/wp-content/uploads/2023/11/FCU.jpg
ORGANIZER;CN="FC Unterf%C3%B6hring 1927 e.V.":MAILTO:info@fcunterfoehring.de
END:VEVENT
BEGIN:VEVENT
DTSTART;TZID=Europe/Berlin:20240302T140000
DTEND;TZID=Europe/Berlin:20240302T140000
DTSTAMP:20260419T233447
CREATED:20240226T073341Z
LAST-MODIFIED:20240226T073341Z
UID:10001747-1709388000-1709388000@www.meinufg.de
SUMMARY:FC Unterföhring - TuS Geretsried
DESCRIPTION:LANDESLIGA SÜDOST
URL:https://www.meinufg.de/event/fc-unterfoehring-tus-geretsried-2/
LOCATION:Sportpark Isarau\, Bergstraße 4\, Unterföhring\, 85774
CATEGORIES:Sport
ATTACH;FMTTYPE=image/jpeg:https://www.meinufg.de/wp-content/uploads/2023/11/FCU.jpg
ORGANIZER;CN="FC Unterf%C3%B6hring 1927 e.V.":MAILTO:info@fcunterfoehring.de
END:VEVENT
BEGIN:VEVENT
DTSTART;TZID=Europe/Berlin:20240302T160000
DTEND;TZID=Europe/Berlin:20240302T160000
DTSTAMP:20260419T233447
CREATED:20240212T100006Z
LAST-MODIFIED:20240212T100006Z
UID:10001728-1709395200-1709395200@www.meinufg.de
SUMMARY:FC Unterföhring - TuS Geretsried
DESCRIPTION:
URL:https://www.meinufg.de/event/fc-unterfoehring-tus-geretsried/
LOCATION:Sportpark Isarau\, Bergstraße 4\, Unterföhring\, 85774
CATEGORIES:Sport
ATTACH;FMTTYPE=image/jpeg:https://www.meinufg.de/wp-content/uploads/2023/11/FCU.jpg
ORGANIZER;CN="FC Unterf%C3%B6hring 1927 e.V.":MAILTO:info@fcunterfoehring.de
END:VEVENT
BEGIN:VEVENT
DTSTART;TZID=Europe/Berlin:20240302T163000
DTEND;TZID=Europe/Berlin:20240302T163000
DTSTAMP:20260419T233447
CREATED:20240226T073538Z
LAST-MODIFIED:20240226T073538Z
UID:10001748-1709397000-1709397000@www.meinufg.de
SUMMARY:FC Unterföhring U10 - FC Phönix München U11-1
DESCRIPTION:
URL:https://www.meinufg.de/event/fc-unterfoehring-u10-fc-phoenix-muenchen-u11-1/
LOCATION:Sportplatz\, Unterer Aschheimer Weg 5\, Unterföhring\, 85774
CATEGORIES:Sport
ATTACH;FMTTYPE=image/jpeg:https://www.meinufg.de/wp-content/uploads/2023/11/FCU.jpg
ORGANIZER;CN="FC Unterf%C3%B6hring 1927 e.V.":MAILTO:info@fcunterfoehring.de
END:VEVENT
BEGIN:VEVENT
DTSTART;TZID=Europe/Berlin:20240302T173000
DTEND;TZID=Europe/Berlin:20240302T173000
DTSTAMP:20260419T233447
CREATED:20240226T073658Z
LAST-MODIFIED:20240226T073658Z
UID:10001749-1709400600-1709400600@www.meinufg.de
SUMMARY:FC Unterföhring U19 - SV Italia 1965 München U19
DESCRIPTION:
URL:https://www.meinufg.de/event/fc-unterfoehring-u19-sv-italia-1965-muenchen-u19/
LOCATION:Sportanlage Unterföhring\, Dammstr.\, Unterföhring
CATEGORIES:Sport
ATTACH;FMTTYPE=image/jpeg:https://www.meinufg.de/wp-content/uploads/2023/11/FCU.jpg
ORGANIZER;CN="FC Unterf%C3%B6hring 1927 e.V.":MAILTO:info@fcunterfoehring.de
END:VEVENT
BEGIN:VEVENT
DTSTART;TZID=Europe/Berlin:20240302T183000
DTEND;TZID=Europe/Berlin:20240302T183000
DTSTAMP:20260419T233447
CREATED:20240120T203843Z
LAST-MODIFIED:20240224T133718Z
UID:10001713-1709404200-1709404200@www.meinufg.de
SUMMARY:CSU - Starkbierfest
DESCRIPTION:
URL:https://www.meinufg.de/event/csu-starkbierfest-unterfoehring/
CATEGORIES:Veranstaltung
ATTACH;FMTTYPE=image/jpeg:https://www.meinufg.de/wp-content/uploads/2024/01/Bier.jpeg
END:VEVENT
END:VCALENDAR