BEGIN:VCALENDAR
VERSION:2.0
PRODID:-//meinUFG - ECPv6.2.3.2//NONSGML v1.0//EN
CALSCALE:GREGORIAN
METHOD:PUBLISH
X-ORIGINAL-URL:https://www.meinufg.de
X-WR-CALDESC:Veranstaltungen für meinUFG
REFRESH-INTERVAL;VALUE=DURATION:PT1H
X-Robots-Tag:noindex
X-PUBLISHED-TTL:PT1H
BEGIN:VTIMEZONE
TZID:Europe/Berlin
BEGIN:DAYLIGHT
TZOFFSETFROM:+0100
TZOFFSETTO:+0200
TZNAME:CEST
DTSTART:20240331T010000
END:DAYLIGHT
BEGIN:STANDARD
TZOFFSETFROM:+0200
TZOFFSETTO:+0100
TZNAME:CET
DTSTART:20241027T010000
END:STANDARD
END:VTIMEZONE
BEGIN:VEVENT
DTSTART;TZID=Europe/Berlin:20240310T093000
DTEND;TZID=Europe/Berlin:20240310T093000
DTSTAMP:20260421T104051
CREATED:20240307T142244Z
LAST-MODIFIED:20240307T142244Z
UID:10001781-1710063000-1710063000@www.meinufg.de
SUMMARY:FC Unterföhring U10 - Fußball-Talente München U11
DESCRIPTION:
URL:https://www.meinufg.de/event/fc-unterfoehring-u10-fussball-talente-muenchen-u11/
LOCATION:Sportanlage Unterföhring\, Dammstr.\, Unterföhring
CATEGORIES:Sport
ATTACH;FMTTYPE=image/jpeg:https://www.meinufg.de/wp-content/uploads/2023/11/FCU.jpg
ORGANIZER;CN="FC Unterf%C3%B6hring 1927 e.V.":MAILTO:info@fcunterfoehring.de
END:VEVENT
BEGIN:VEVENT
DTSTART;TZID=Europe/Berlin:20240310T110000
DTEND;TZID=Europe/Berlin:20240310T110000
DTSTAMP:20260421T104051
CREATED:20240307T142426Z
LAST-MODIFIED:20240307T142426Z
UID:10001782-1710068400-1710068400@www.meinufg.de
SUMMARY:FC Unterföhring U11-1 - TSV Waldtrudering U11-2
DESCRIPTION:
URL:https://www.meinufg.de/event/fc-unterfoehring-u11-1-tsv-waldtrudering-u11-2/
LOCATION:Sportplatz\, Unterer Aschheimer Weg 5\, Unterföhring\, 85774
CATEGORIES:Sport
ATTACH;FMTTYPE=image/jpeg:https://www.meinufg.de/wp-content/uploads/2023/11/FCU.jpg
ORGANIZER;CN="FC Unterf%C3%B6hring 1927 e.V.":MAILTO:info@fcunterfoehring.de
END:VEVENT
BEGIN:VEVENT
DTSTART;TZID=Europe/Berlin:20240310T113000
DTEND;TZID=Europe/Berlin:20240310T113000
DTSTAMP:20260421T104051
CREATED:20240307T142638Z
LAST-MODIFIED:20240307T142638Z
UID:10001783-1710070200-1710070200@www.meinufg.de
SUMMARY:FC Unterföhring U13-1 - ASV Dachau U13-1
DESCRIPTION:
URL:https://www.meinufg.de/event/fc-unterfoehring-u13-1-asv-dachau-u13-1/
LOCATION:Sportanlage Unterföhring\, Dammstr.\, Unterföhring
CATEGORIES:Sport
ATTACH;FMTTYPE=image/jpeg:https://www.meinufg.de/wp-content/uploads/2023/11/FCU.jpg
ORGANIZER;CN="FC Unterf%C3%B6hring 1927 e.V.":MAILTO:info@fcunterfoehring.de
END:VEVENT
END:VCALENDAR