BEGIN:VCALENDAR
VERSION:2.0
PRODID:-//meinUFG - ECPv6.2.3.2//NONSGML v1.0//EN
CALSCALE:GREGORIAN
METHOD:PUBLISH
X-WR-CALNAME:meinUFG
X-ORIGINAL-URL:https://www.meinufg.de
X-WR-CALDESC:Veranstaltungen für meinUFG
REFRESH-INTERVAL;VALUE=DURATION:PT1H
X-Robots-Tag:noindex
X-PUBLISHED-TTL:PT1H
BEGIN:VTIMEZONE
TZID:Europe/Berlin
BEGIN:DAYLIGHT
TZOFFSETFROM:+0100
TZOFFSETTO:+0200
TZNAME:CEST
DTSTART:20240331T010000
END:DAYLIGHT
BEGIN:STANDARD
TZOFFSETFROM:+0200
TZOFFSETTO:+0100
TZNAME:CET
DTSTART:20241027T010000
END:STANDARD
END:VTIMEZONE
BEGIN:VEVENT
DTSTART;TZID=Europe/Berlin:20240313T090000
DTEND;TZID=Europe/Berlin:20240313T090000
DTSTAMP:20260419T233343
CREATED:20240301T081120Z
LAST-MODIFIED:20240301T100729Z
UID:10001760-1710320400-1710320400@www.meinufg.de
SUMMARY:Farbenspiele - Schauspiel mit Videoeinspielungen und Livemusik
DESCRIPTION:
URL:https://www.meinufg.de/event/farbenspiele/
LOCATION:Bürgerhaus Unterföhring\, Münchner Str. 65\, Unterföhring\, 85774
CATEGORIES:Kinder,Veranstaltung
ATTACH;FMTTYPE=image/jpeg:https://www.meinufg.de/wp-content/uploads/2023/11/Theater.jpg
ORGANIZER;CN="B%C3%BCrgerhaus Unterf%C3%B6hring":MAILTO:info@buergerhaus-unterfoehring.de
END:VEVENT
BEGIN:VEVENT
DTSTART;TZID=Europe/Berlin:20240313T103000
DTEND;TZID=Europe/Berlin:20240313T103000
DTSTAMP:20260419T233343
CREATED:20240301T081254Z
LAST-MODIFIED:20240301T100757Z
UID:10001761-1710325800-1710325800@www.meinufg.de
SUMMARY:Farbenspiele - Schauspiel mit Videoeinspielungen und Livemusik
DESCRIPTION:
URL:https://www.meinufg.de/event/farbenspiele-2/
LOCATION:Bürgerhaus Unterföhring\, Münchner Str. 65\, Unterföhring\, 85774
CATEGORIES:Kinder,Veranstaltung
ATTACH;FMTTYPE=image/jpeg:https://www.meinufg.de/wp-content/uploads/2023/11/Theater.jpg
ORGANIZER;CN="B%C3%BCrgerhaus Unterf%C3%B6hring":MAILTO:info@buergerhaus-unterfoehring.de
END:VEVENT
BEGIN:VEVENT
DTSTART;TZID=Europe/Berlin:20240313T150000
DTEND;TZID=Europe/Berlin:20240313T150000
DTSTAMP:20260419T233343
CREATED:20240303T091503Z
LAST-MODIFIED:20240303T091503Z
UID:10001769-1710342000-1710342000@www.meinufg.de
SUMMARY:Bilderbuchkino - Tafiti heute bin ich du!
DESCRIPTION:
URL:https://www.meinufg.de/event/bilderbuchkino-tafiti-heute-bin-ich-du/
LOCATION:Bürgerhaus Unterföhring\, Münchner Str. 65\, Unterföhring\, 85774
CATEGORIES:Kinder,Veranstaltung
ATTACH;FMTTYPE=image/webp:https://www.meinufg.de/wp-content/uploads/2024/03/Bibliothek.webp
ORGANIZER;CN="B%C3%BCrgerhaus Unterf%C3%B6hring":MAILTO:info@buergerhaus-unterfoehring.de
END:VEVENT
END:VCALENDAR