BEGIN:VCALENDAR
VERSION:2.0
PRODID:-//meinUFG - ECPv6.2.3.2//NONSGML v1.0//EN
CALSCALE:GREGORIAN
METHOD:PUBLISH
X-ORIGINAL-URL:https://www.meinufg.de
X-WR-CALDESC:Veranstaltungen für meinUFG
REFRESH-INTERVAL;VALUE=DURATION:PT1H
X-Robots-Tag:noindex
X-PUBLISHED-TTL:PT1H
BEGIN:VTIMEZONE
TZID:Europe/Berlin
BEGIN:DAYLIGHT
TZOFFSETFROM:+0100
TZOFFSETTO:+0200
TZNAME:CEST
DTSTART:20240331T010000
END:DAYLIGHT
BEGIN:STANDARD
TZOFFSETFROM:+0200
TZOFFSETTO:+0100
TZNAME:CET
DTSTART:20241027T010000
END:STANDARD
END:VTIMEZONE
BEGIN:VEVENT
DTSTART;TZID=Europe/Berlin:20240316T080000
DTEND;TZID=Europe/Berlin:20240316T130000
DTSTAMP:20260421T113813
CREATED:20231027T051848Z
LAST-MODIFIED:20231030T220154Z
UID:10000659-1710576000-1710594000@www.meinufg.de
SUMMARY:Wochenmarkt in Unterföhring
DESCRIPTION:
URL:https://www.meinufg.de/event/wochenmarkt-in-unterfoehring/2024-03-16/
LOCATION:Bürgerhaus Unterföhring\, Münchner Str. 65\, Unterföhring\, 85774
CATEGORIES:Veranstaltung
ATTACH;FMTTYPE=image/webp:https://www.meinufg.de/wp-content/uploads/2023/10/Wochenmarkt-scaled-e1698703250730.webp
ORGANIZER;CN="Gemeinde Unterf%C3%B6hring":MAILTO:info@unterfoehring.de
END:VEVENT
BEGIN:VEVENT
DTSTART;TZID=Europe/Berlin:20240316T090000
DTEND;TZID=Europe/Berlin:20240316T090000
DTSTAMP:20260421T113813
CREATED:20240311T211610Z
LAST-MODIFIED:20240311T211610Z
UID:10001786-1710579600-1710579600@www.meinufg.de
SUMMARY:FC Unterföhring U8-1 - TSV Grafing U8-2
DESCRIPTION:
URL:https://www.meinufg.de/event/fc-unterfoehring-u8-1-tsv-grafing-u8-2/
LOCATION:Sportpark Isarau\, Bergstraße 4\, Unterföhring\, 85774
CATEGORIES:Sport
ATTACH;FMTTYPE=image/jpeg:https://www.meinufg.de/wp-content/uploads/2023/11/FCU.jpg
ORGANIZER;CN="FC Unterf%C3%B6hring 1927 e.V.":MAILTO:info@fcunterfoehring.de
END:VEVENT
BEGIN:VEVENT
DTSTART;TZID=Europe/Berlin:20240316T093000
DTEND;TZID=Europe/Berlin:20240316T093000
DTSTAMP:20260421T113813
CREATED:20240311T211914Z
LAST-MODIFIED:20240311T211914Z
UID:10001787-1710581400-1710581400@www.meinufg.de
SUMMARY:FC Unterföhring U8-3 - (SG) Niederroth/Arnbach U8
DESCRIPTION:
URL:https://www.meinufg.de/event/fc-unterfoehring-u8-3-sg-niederroth-arnbach-u8/
LOCATION:Sportanlage Unterföhring\, Dammstr.\, Unterföhring
CATEGORIES:Sport
ATTACH;FMTTYPE=image/jpeg:https://www.meinufg.de/wp-content/uploads/2023/11/FCU.jpg
ORGANIZER;CN="FC Unterf%C3%B6hring 1927 e.V.":MAILTO:info@fcunterfoehring.de
END:VEVENT
BEGIN:VEVENT
DTSTART;TZID=Europe/Berlin:20240316T093000
DTEND;TZID=Europe/Berlin:20240316T093000
DTSTAMP:20260421T113813
CREATED:20240311T212139Z
LAST-MODIFIED:20240311T212418Z
UID:10001788-1710581400-1710581400@www.meinufg.de
SUMMARY:FC Unterföhring U10-1 - TSV Zorneding U10
DESCRIPTION:
URL:https://www.meinufg.de/event/fc-unterfoehring-u10-1-tsv-zorneding-u10/
LOCATION:Sportanlage Unterföhring\, Dammstr.\, Unterföhring
CATEGORIES:Sport
ATTACH;FMTTYPE=image/jpeg:https://www.meinufg.de/wp-content/uploads/2023/11/FCU.jpg
ORGANIZER;CN="FC Unterf%C3%B6hring 1927 e.V.":MAILTO:info@fcunterfoehring.de
END:VEVENT
BEGIN:VEVENT
DTSTART;TZID=Europe/Berlin:20240316T100000
DTEND;TZID=Europe/Berlin:20240316T100000
DTSTAMP:20260421T113813
CREATED:20240311T212548Z
LAST-MODIFIED:20240311T212548Z
UID:10001789-1710583200-1710583200@www.meinufg.de
SUMMARY:FC Unterföhring U10-4 - MSV Bajuwaren U10-2
DESCRIPTION:
URL:https://www.meinufg.de/event/fc-unterfoehring-u10-4-msv-bajuwaren-u10-2/
LOCATION:Sportplatz\, Unterer Aschheimer Weg 5\, Unterföhring\, 85774
CATEGORIES:Sport
ATTACH;FMTTYPE=image/jpeg:https://www.meinufg.de/wp-content/uploads/2023/11/FCU.jpg
ORGANIZER;CN="FC Unterf%C3%B6hring 1927 e.V.":MAILTO:info@fcunterfoehring.de
END:VEVENT
BEGIN:VEVENT
DTSTART;TZID=Europe/Berlin:20240316T130000
DTEND;TZID=Europe/Berlin:20240316T130000
DTSTAMP:20260421T113813
CREATED:20240311T212725Z
LAST-MODIFIED:20240311T214108Z
UID:10001790-1710594000-1710594000@www.meinufg.de
SUMMARY:FC Unterföhring U13-1- FSV Harthof München U13
DESCRIPTION:
URL:https://www.meinufg.de/event/fc-unterfoehring-u13-1-fsv-harthof-muenchen-u13/
LOCATION:Sportanlage Unterföhring\, Dammstr.\, Unterföhring
CATEGORIES:Sport
ATTACH;FMTTYPE=image/jpeg:https://www.meinufg.de/wp-content/uploads/2023/11/FCU.jpg
ORGANIZER;CN="FC Unterf%C3%B6hring 1927 e.V.":MAILTO:info@fcunterfoehring.de
END:VEVENT
BEGIN:VEVENT
DTSTART;TZID=Europe/Berlin:20240316T140000
DTEND;TZID=Europe/Berlin:20240316T140000
DTSTAMP:20260421T113813
CREATED:20240311T214233Z
LAST-MODIFIED:20240311T214332Z
UID:10001791-1710597600-1710597600@www.meinufg.de
SUMMARY:FC Unterföhring - TSV Kastl
DESCRIPTION:
URL:https://www.meinufg.de/event/fc-unterfoehring-tsv-kastl/
LOCATION:Sportpark Isarau\, Bergstraße 4\, Unterföhring\, 85774
CATEGORIES:Sport
ATTACH;FMTTYPE=image/jpeg:https://www.meinufg.de/wp-content/uploads/2023/11/FCU.jpg
ORGANIZER;CN="FC Unterf%C3%B6hring 1927 e.V.":MAILTO:info@fcunterfoehring.de
END:VEVENT
BEGIN:VEVENT
DTSTART;TZID=Europe/Berlin:20240316T150000
DTEND;TZID=Europe/Berlin:20240316T173000
DTSTAMP:20260421T113813
CREATED:20240306T134352Z
LAST-MODIFIED:20240306T134352Z
UID:10001776-1710601200-1710610200@www.meinufg.de
SUMMARY:Unterfairepair Café Unterföhring
DESCRIPTION:
URL:https://www.meinufg.de/event/unterfairepair-cafe-unterfoehring/
LOCATION:Volkshochschule\, Am Bahnhof 13\, Unterföhring\, 85774
CATEGORIES:Veranstaltung
ATTACH;FMTTYPE=image/jpeg:https://www.meinufg.de/wp-content/uploads/2023/09/pexels-blaz-erzetic-2517330-scaled-e1694756785110.jpg
ORGANIZER;CN="zukunft-Unterfairing":MAILTO:info@zukunft-unterfairing.de
END:VEVENT
END:VCALENDAR