BEGIN:VCALENDAR
VERSION:2.0
PRODID:-//meinUFG - ECPv6.2.3.2//NONSGML v1.0//EN
CALSCALE:GREGORIAN
METHOD:PUBLISH
X-ORIGINAL-URL:https://www.meinufg.de
X-WR-CALDESC:Veranstaltungen für meinUFG
REFRESH-INTERVAL;VALUE=DURATION:PT1H
X-Robots-Tag:noindex
X-PUBLISHED-TTL:PT1H
BEGIN:VTIMEZONE
TZID:Europe/Berlin
BEGIN:DAYLIGHT
TZOFFSETFROM:+0100
TZOFFSETTO:+0200
TZNAME:CEST
DTSTART:20240331T010000
END:DAYLIGHT
BEGIN:STANDARD
TZOFFSETFROM:+0200
TZOFFSETTO:+0100
TZNAME:CET
DTSTART:20241027T010000
END:STANDARD
END:VTIMEZONE
BEGIN:VEVENT
DTSTART;TZID=Europe/Berlin:20240410T150000
DTEND;TZID=Europe/Berlin:20240410T150000
DTSTAMP:20260421T131203
CREATED:20240303T091708Z
LAST-MODIFIED:20240303T091708Z
UID:10001770-1712761200-1712761200@www.meinufg.de
SUMMARY:Bilderbuchkino - Die kleine Hexe geht auf Reisen
DESCRIPTION:
URL:https://www.meinufg.de/event/bilderbuchkino-die-kleine-hexe-geht-auf-reisen/
LOCATION:Bürgerhaus Unterföhring\, Münchner Str. 65\, Unterföhring\, 85774
CATEGORIES:Kinder,Veranstaltung
ATTACH;FMTTYPE=image/webp:https://www.meinufg.de/wp-content/uploads/2024/03/Bibliothek.webp
ORGANIZER;CN="B%C3%BCrgerhaus Unterf%C3%B6hring":MAILTO:info@buergerhaus-unterfoehring.de
END:VEVENT
BEGIN:VEVENT
DTSTART;TZID=Europe/Berlin:20240410T190000
DTEND;TZID=Europe/Berlin:20240410T190000
DTSTAMP:20260421T131203
CREATED:20240408T204718Z
LAST-MODIFIED:20240408T204718Z
UID:10001829-1712775600-1712775600@www.meinufg.de
SUMMARY:Öffentliche Sitzung des Gemeinderates
DESCRIPTION:
URL:https://www.meinufg.de/event/oeffentliche-sitzung-des-gemeinderates-unterfoehring-2/
LOCATION:Gemeinde Unterföhring\, Münchner Str. 70\, Unterföhring\, 85774
CATEGORIES:Politik
ATTACH;FMTTYPE=image/jpeg:https://www.meinufg.de/wp-content/uploads/2023/09/pexels-luis-quintero-2774556-scaled-e1694283533442.jpg
ORGANIZER;CN="Gemeinde Unterf%C3%B6hring":MAILTO:info@unterfoehring.de
END:VEVENT
END:VCALENDAR