BEGIN:VCALENDAR
VERSION:2.0
PRODID:-//meinUFG - ECPv6.2.3.2//NONSGML v1.0//EN
CALSCALE:GREGORIAN
METHOD:PUBLISH
X-ORIGINAL-URL:https://www.meinufg.de
X-WR-CALDESC:Veranstaltungen für meinUFG
REFRESH-INTERVAL;VALUE=DURATION:PT1H
X-Robots-Tag:noindex
X-PUBLISHED-TTL:PT1H
BEGIN:VTIMEZONE
TZID:Europe/Berlin
BEGIN:DAYLIGHT
TZOFFSETFROM:+0100
TZOFFSETTO:+0200
TZNAME:CEST
DTSTART:20240331T010000
END:DAYLIGHT
BEGIN:STANDARD
TZOFFSETFROM:+0200
TZOFFSETTO:+0100
TZNAME:CET
DTSTART:20241027T010000
END:STANDARD
END:VTIMEZONE
BEGIN:VEVENT
DTSTART;TZID=Europe/Berlin:20240414T090000
DTEND;TZID=Europe/Berlin:20240414T090000
DTSTAMP:20260421T131203
CREATED:20240408T203353Z
LAST-MODIFIED:20240408T203353Z
UID:10001826-1713085200-1713085200@www.meinufg.de
SUMMARY:FC Unterföhring U9-1 - FC Schwabing U9-1
DESCRIPTION:U 9 (F-JUN.) NORD PULPO RR
URL:https://www.meinufg.de/event/fc-unterfoehring-u9-1-fc-schwabing-u9-1/
LOCATION:Sportanlage Unterföhring\, Dammstr.\, Unterföhring
CATEGORIES:Sport
ATTACH;FMTTYPE=image/jpeg:https://www.meinufg.de/wp-content/uploads/2023/11/FCU.jpg
ORGANIZER;CN="FC Unterf%C3%B6hring 1927 e.V.":MAILTO:info@fcunterfoehring.de
END:VEVENT
BEGIN:VEVENT
DTSTART;TZID=Europe/Berlin:20240414T100000
DTEND;TZID=Europe/Berlin:20240414T100000
DTSTAMP:20260421T131203
CREATED:20240408T203527Z
LAST-MODIFIED:20240408T203527Z
UID:10001827-1713088800-1713088800@www.meinufg.de
SUMMARY:FC Unterföhring U10-2 - SV Weichs U10-1
DESCRIPTION:U 10 (E-JUN.) NORD PULPO RR
URL:https://www.meinufg.de/event/fc-unterfoehring-u10-2-sv-weichs-u10-1/
LOCATION:Sportanlage Unterföhring\, Dammstr.\, Unterföhring
CATEGORIES:Sport
ATTACH;FMTTYPE=image/jpeg:https://www.meinufg.de/wp-content/uploads/2023/11/FCU.jpg
ORGANIZER;CN="FC Unterf%C3%B6hring 1927 e.V.":MAILTO:info@fcunterfoehring.de
END:VEVENT
BEGIN:VEVENT
DTSTART;TZID=Europe/Berlin:20240414T100000
DTEND;TZID=Europe/Berlin:20240414T100000
DTSTAMP:20260421T131203
CREATED:20240408T203716Z
LAST-MODIFIED:20240408T203716Z
UID:10001828-1713088800-1713088800@www.meinufg.de
SUMMARY:FC Unterföhring U8-2 - SV Riedmoos U8/1
DESCRIPTION:U 8 (F-JUN.) NORD CONDOR RR
URL:https://www.meinufg.de/event/fc-unterfoehring-u8-2-sv-riedmoos-u8-1/
LOCATION:Sportanlage Unterföhring\, Dammstr.\, Unterföhring
CATEGORIES:Sport
ATTACH;FMTTYPE=image/jpeg:https://www.meinufg.de/wp-content/uploads/2023/11/FCU.jpg
ORGANIZER;CN="FC Unterf%C3%B6hring 1927 e.V.":MAILTO:info@fcunterfoehring.de
END:VEVENT
END:VCALENDAR