BEGIN:VCALENDAR
VERSION:2.0
PRODID:-//meinUFG - ECPv6.2.3.2//NONSGML v1.0//EN
CALSCALE:GREGORIAN
METHOD:PUBLISH
X-ORIGINAL-URL:https://www.meinufg.de
X-WR-CALDESC:Veranstaltungen für meinUFG
REFRESH-INTERVAL;VALUE=DURATION:PT1H
X-Robots-Tag:noindex
X-PUBLISHED-TTL:PT1H
BEGIN:VTIMEZONE
TZID:Europe/Berlin
BEGIN:DAYLIGHT
TZOFFSETFROM:+0100
TZOFFSETTO:+0200
TZNAME:CEST
DTSTART:20240331T010000
END:DAYLIGHT
BEGIN:STANDARD
TZOFFSETFROM:+0200
TZOFFSETTO:+0100
TZNAME:CET
DTSTART:20241027T010000
END:STANDARD
END:VTIMEZONE
BEGIN:VEVENT
DTSTART;TZID=Europe/Berlin:20240428T090000
DTEND;TZID=Europe/Berlin:20240428T090000
DTSTAMP:20260421T131209
CREATED:20240423T194308Z
LAST-MODIFIED:20240423T194308Z
UID:10001844-1714294800-1714294800@www.meinufg.de
SUMMARY:FC Unterföhring U9-1 - TSV Eintracht Karlsfeld U9-1
DESCRIPTION:U 9 (F-JUN.) NORD PULPO RR
URL:https://www.meinufg.de/event/fc-unterfoehring-u9-1-tsv-eintracht-karlsfeld-u9-1/
LOCATION:Sportanlage Unterföhring\, Dammstr.\, Unterföhring
CATEGORIES:Sport
ATTACH;FMTTYPE=image/jpeg:https://www.meinufg.de/wp-content/uploads/2023/11/FCU.jpg
ORGANIZER;CN="FC Unterf%C3%B6hring 1927 e.V.":MAILTO:info@fcunterfoehring.de
END:VEVENT
BEGIN:VEVENT
DTSTART;TZID=Europe/Berlin:20240428T100000
DTEND;TZID=Europe/Berlin:20240428T100000
DTSTAMP:20260421T131209
CREATED:20240423T194502Z
LAST-MODIFIED:20240423T194502Z
UID:10001845-1714298400-1714298400@www.meinufg.de
SUMMARY:FC Unterföhring U8-2 - Post-SV München U8
DESCRIPTION:U 8 (F-JUN.) NORD CONDOR RR
URL:https://www.meinufg.de/event/fc-unterfoehring-u8-2-post-sv-muenchen-u8/
LOCATION:Sportanlage Unterföhring\, Dammstr.\, Unterföhring
CATEGORIES:Sport
ATTACH;FMTTYPE=image/jpeg:https://www.meinufg.de/wp-content/uploads/2023/11/FCU.jpg
ORGANIZER;CN="FC Unterf%C3%B6hring 1927 e.V.":MAILTO:info@fcunterfoehring.de
END:VEVENT
BEGIN:VEVENT
DTSTART;TZID=Europe/Berlin:20240428T120000
DTEND;TZID=Europe/Berlin:20240428T120000
DTSTAMP:20260421T131209
CREATED:20240423T194630Z
LAST-MODIFIED:20240423T194630Z
UID:10001846-1714305600-1714305600@www.meinufg.de
SUMMARY:FC Unterföhring U12-1 - FT München-Gern U12/1
DESCRIPTION:U12 (JGL) KREISLIGA QUALI BOL
URL:https://www.meinufg.de/event/fc-unterfoehring-u12-1-ft-muenchen-gern-u12-1/
LOCATION:Sportanlage Unterföhring\, Dammstr.\, Unterföhring
CATEGORIES:Sport
ATTACH;FMTTYPE=image/jpeg:https://www.meinufg.de/wp-content/uploads/2023/11/FCU.jpg
ORGANIZER;CN="FC Unterf%C3%B6hring 1927 e.V.":MAILTO:info@fcunterfoehring.de
END:VEVENT
BEGIN:VEVENT
DTSTART;TZID=Europe/Berlin:20240428T140000
DTEND;TZID=Europe/Berlin:20240428T140000
DTSTAMP:20260421T131209
CREATED:20240423T194740Z
LAST-MODIFIED:20240423T194740Z
UID:10001847-1714312800-1714312800@www.meinufg.de
SUMMARY:FC Unterföhring II - SV Lohhof II
DESCRIPTION:112 KREISKLASSE 2
URL:https://www.meinufg.de/event/fc-unterfoehring-ii-sv-lohhof-ii/
LOCATION:Sportanlage Unterföhring\, Dammstr.\, Unterföhring
CATEGORIES:Sport
ATTACH;FMTTYPE=image/jpeg:https://www.meinufg.de/wp-content/uploads/2023/11/FCU.jpg
ORGANIZER;CN="FC Unterf%C3%B6hring 1927 e.V.":MAILTO:info@fcunterfoehring.de
END:VEVENT
BEGIN:VEVENT
DTSTART;TZID=Europe/Berlin:20240428T170000
DTEND;TZID=Europe/Berlin:20240428T170000
DTSTAMP:20260421T131209
CREATED:20240423T194902Z
LAST-MODIFIED:20240423T194902Z
UID:10001848-1714323600-1714323600@www.meinufg.de
SUMMARY:FC Unterföhring U19 - SV Untermenzing U19/2
DESCRIPTION:U19 (A-JUN.) KREISKLASSE NORD RR
URL:https://www.meinufg.de/event/fc-unterfoehring-u19-sv-untermenzing-u19-2/
LOCATION:Sportanlage Unterföhring\, Dammstr.\, Unterföhring
CATEGORIES:Sport
ATTACH;FMTTYPE=image/jpeg:https://www.meinufg.de/wp-content/uploads/2023/11/FCU.jpg
ORGANIZER;CN="FC Unterf%C3%B6hring 1927 e.V.":MAILTO:info@fcunterfoehring.de
END:VEVENT
BEGIN:VEVENT
DTSTART;TZID=Europe/Berlin:20240428T193000
DTEND;TZID=Europe/Berlin:20240428T193000
DTSTAMP:20260421T131209
CREATED:20240423T195004Z
LAST-MODIFIED:20240423T195004Z
UID:10001849-1714332600-1714332600@www.meinufg.de
SUMMARY:SG Unterföhring/Bogenhaus. KF - SG Hochbrück / Plasma (KF)
DESCRIPTION:SEN. C KL KLEINFELD 2024
URL:https://www.meinufg.de/event/sg-unterfoehring-bogenhaus-kf-sg-hochbrueck-plasma-kf-2/
LOCATION:Sportanlage Unterföhring\, Dammstr.\, Unterföhring
CATEGORIES:Sport
ATTACH;FMTTYPE=image/jpeg:https://www.meinufg.de/wp-content/uploads/2023/11/FCU.jpg
ORGANIZER;CN="FC Unterf%C3%B6hring 1927 e.V.":MAILTO:info@fcunterfoehring.de
END:VEVENT
END:VCALENDAR