BEGIN:VCALENDAR
VERSION:2.0
PRODID:-//meinUFG - ECPv6.2.3.2//NONSGML v1.0//EN
CALSCALE:GREGORIAN
METHOD:PUBLISH
X-ORIGINAL-URL:https://www.meinufg.de
X-WR-CALDESC:Veranstaltungen für meinUFG
REFRESH-INTERVAL;VALUE=DURATION:PT1H
X-Robots-Tag:noindex
X-PUBLISHED-TTL:PT1H
BEGIN:VTIMEZONE
TZID:Europe/Berlin
BEGIN:DAYLIGHT
TZOFFSETFROM:+0100
TZOFFSETTO:+0200
TZNAME:CEST
DTSTART:20240331T010000
END:DAYLIGHT
BEGIN:STANDARD
TZOFFSETFROM:+0200
TZOFFSETTO:+0100
TZNAME:CET
DTSTART:20241027T010000
END:STANDARD
END:VTIMEZONE
BEGIN:VEVENT
DTSTART;TZID=Europe/Berlin:20240504T080000
DTEND;TZID=Europe/Berlin:20240504T130000
DTSTAMP:20260419T204523
CREATED:20231027T051848Z
LAST-MODIFIED:20231030T220154Z
UID:10000666-1714809600-1714827600@www.meinufg.de
SUMMARY:Wochenmarkt in Unterföhring
DESCRIPTION:
URL:https://www.meinufg.de/event/wochenmarkt-in-unterfoehring/2024-05-04/
LOCATION:Bürgerhaus Unterföhring\, Münchner Str. 65\, Unterföhring\, 85774
CATEGORIES:Veranstaltung
ATTACH;FMTTYPE=image/webp:https://www.meinufg.de/wp-content/uploads/2023/10/Wochenmarkt-scaled-e1698703250730.webp
ORGANIZER;CN="Gemeinde Unterf%C3%B6hring":MAILTO:info@unterfoehring.de
END:VEVENT
BEGIN:VEVENT
DTSTART;TZID=Europe/Berlin:20240504T090000
DTEND;TZID=Europe/Berlin:20240504T090000
DTSTAMP:20260419T204523
CREATED:20240429T192038Z
LAST-MODIFIED:20240429T192038Z
UID:10001856-1714813200-1714813200@www.meinufg.de
SUMMARY:FC Unterföhring U8-1 - FC Sportfreunde U7-1
DESCRIPTION:U 8 (F-JUN.) OST KUH RR
URL:https://www.meinufg.de/event/fc-unterfoehring-u8-1-fc-sportfreunde-u7-1/
LOCATION:Sportanlage Unterföhring\, Dammstr.\, Unterföhring
CATEGORIES:Sport
ATTACH;FMTTYPE=image/jpeg:https://www.meinufg.de/wp-content/uploads/2023/11/FCU.jpg
ORGANIZER;CN="FC Unterf%C3%B6hring 1927 e.V.":MAILTO:info@fcunterfoehring.de
END:VEVENT
BEGIN:VEVENT
DTSTART;TZID=Europe/Berlin:20240504T093000
DTEND;TZID=Europe/Berlin:20240504T093000
DTSTAMP:20260419T204523
CREATED:20240421T180249Z
LAST-MODIFIED:20240421T180249Z
UID:10001834-1714815000-1714815000@www.meinufg.de
SUMMARY:Faszination Weltraum am Gymnasium Unterföhring
DESCRIPTION:Klicken Sie auf den unteren Button\, um den Inhalt von www.dphv.de zu laden. \nInhalt laden
URL:https://www.meinufg.de/event/faszination-weltraum-am-gymnasium-unterfoehring/
CATEGORIES:Veranstaltung
ATTACH;FMTTYPE=image/webp:https://www.meinufg.de/wp-content/uploads/2024/04/Weltraum.webp
END:VEVENT
BEGIN:VEVENT
DTSTART;TZID=Europe/Berlin:20240504T093000
DTEND;TZID=Europe/Berlin:20240504T093000
DTSTAMP:20260419T204523
CREATED:20240429T192218Z
LAST-MODIFIED:20240429T192218Z
UID:10001857-1714815000-1714815000@www.meinufg.de
SUMMARY:FC Unterföhring U8-3 - SV Am Hart U7-1
DESCRIPTION:U 8 (F-JUN.) NORD BIBER RR
URL:https://www.meinufg.de/event/fc-unterfoehring-u8-3-sv-am-hart-u7-1/
LOCATION:Sportanlage Unterföhring\, Dammstr.\, Unterföhring
CATEGORIES:Sport
ATTACH;FMTTYPE=image/jpeg:https://www.meinufg.de/wp-content/uploads/2023/11/FCU.jpg
ORGANIZER;CN="FC Unterf%C3%B6hring 1927 e.V.":MAILTO:info@fcunterfoehring.de
END:VEVENT
BEGIN:VEVENT
DTSTART;TZID=Europe/Berlin:20240504T093000
DTEND;TZID=Europe/Berlin:20240504T093000
DTSTAMP:20260419T204523
CREATED:20240429T192435Z
LAST-MODIFIED:20240429T192435Z
UID:10001858-1714815000-1714815000@www.meinufg.de
SUMMARY:FC Unterföhring U10-1 - SV Heimstetten U10
DESCRIPTION:U 10 (E-JUN.) OST PULPO RR
URL:https://www.meinufg.de/event/fc-unterfoehring-u10-1-sv-heimstetten-u10/
LOCATION:Sportanlage Unterföhring\, Dammstr.\, Unterföhring
CATEGORIES:Sport
ATTACH;FMTTYPE=image/jpeg:https://www.meinufg.de/wp-content/uploads/2023/11/FCU.jpg
ORGANIZER;CN="FC Unterf%C3%B6hring 1927 e.V.":MAILTO:info@fcunterfoehring.de
END:VEVENT
BEGIN:VEVENT
DTSTART;TZID=Europe/Berlin:20240504T100000
DTEND;TZID=Europe/Berlin:20240504T100000
DTSTAMP:20260419T204523
CREATED:20240429T192549Z
LAST-MODIFIED:20240429T192549Z
UID:10001859-1714816800-1714816800@www.meinufg.de
SUMMARY:FC Unterföhring U10-4 - FC Rot-Weiß Oberföhring U10-1
DESCRIPTION:U 10 (E-JUN.) OST UHU RR
URL:https://www.meinufg.de/event/fc-unterfoehring-u10-4-fc-rot-weiss-oberfoehring-u10-1/
LOCATION:Sportplatz\, Unterer Aschheimer Weg 5\, Unterföhring\, 85774
CATEGORIES:Sport
ATTACH;FMTTYPE=image/jpeg:https://www.meinufg.de/wp-content/uploads/2023/11/FCU.jpg
ORGANIZER;CN="FC Unterf%C3%B6hring 1927 e.V.":MAILTO:info@fcunterfoehring.de
END:VEVENT
BEGIN:VEVENT
DTSTART;TZID=Europe/Berlin:20240504T100000
DTEND;TZID=Europe/Berlin:20240504T140000
DTSTAMP:20260419T204523
CREATED:20240413T051034Z
LAST-MODIFIED:20240413T051658Z
UID:10001830-1714816800-1714831200@www.meinufg.de
SUMMARY:AWO - Hortflohmarkt 2024
DESCRIPTION:  \n  \n 
URL:https://www.meinufg.de/event/awo-hortflohmarkt-2024-unterfoehring/
CATEGORIES:Kinder,Veranstaltung
ATTACH;FMTTYPE=image/webp:https://www.meinufg.de/wp-content/uploads/2024/04/Plakat-Flohmarkt_2024-05-04-scaled.webp
END:VEVENT
BEGIN:VEVENT
DTSTART;TZID=Europe/Berlin:20240504T110000
DTEND;TZID=Europe/Berlin:20240504T110000
DTSTAMP:20260419T204523
CREATED:20240429T192700Z
LAST-MODIFIED:20240429T192700Z
UID:10001860-1714820400-1714820400@www.meinufg.de
SUMMARY:FC Unterföhring U12-2 - SG Glonn/Bruck/Moosach/Oberpframmern U12
DESCRIPTION:U12 (JGL) KREISKLASSE OST 01 RR
URL:https://www.meinufg.de/event/fc-unterfoehring-u12-2-sg-glonn-bruck-moosach-oberpframmern-u12/
LOCATION:Sportanlage Unterföhring\, Dammstr.\, Unterföhring
CATEGORIES:Sport
ATTACH;FMTTYPE=image/jpeg:https://www.meinufg.de/wp-content/uploads/2023/11/FCU.jpg
ORGANIZER;CN="FC Unterf%C3%B6hring 1927 e.V.":MAILTO:info@fcunterfoehring.de
END:VEVENT
BEGIN:VEVENT
DTSTART;TZID=Europe/Berlin:20240504T120000
DTEND;TZID=Europe/Berlin:20240504T170000
DTSTAMP:20260419T204523
CREATED:20240423T191614Z
LAST-MODIFIED:20240423T191705Z
UID:10001836-1714824000-1714842000@www.meinufg.de
SUMMARY:Feuerwehr Unterföhring - Tag der offenen Tür
DESCRIPTION:
URL:https://www.meinufg.de/event/feuerwehr-unterfoehring-tag-der-offenen-tuer/
CATEGORIES:Veranstaltung
ATTACH;FMTTYPE=image/webp:https://www.meinufg.de/wp-content/uploads/2024/04/Feuerwehr.webp
END:VEVENT
END:VCALENDAR