BEGIN:VCALENDAR
VERSION:2.0
PRODID:-//meinUFG - ECPv6.2.3.2//NONSGML v1.0//EN
CALSCALE:GREGORIAN
METHOD:PUBLISH
X-WR-CALNAME:meinUFG
X-ORIGINAL-URL:https://www.meinufg.de
X-WR-CALDESC:Veranstaltungen für meinUFG
REFRESH-INTERVAL;VALUE=DURATION:PT1H
X-Robots-Tag:noindex
X-PUBLISHED-TTL:PT1H
BEGIN:VTIMEZONE
TZID:Europe/Berlin
BEGIN:DAYLIGHT
TZOFFSETFROM:+0100
TZOFFSETTO:+0200
TZNAME:CEST
DTSTART:20240331T010000
END:DAYLIGHT
BEGIN:STANDARD
TZOFFSETFROM:+0200
TZOFFSETTO:+0100
TZNAME:CET
DTSTART:20241027T010000
END:STANDARD
END:VTIMEZONE
BEGIN:VEVENT
DTSTART;TZID=Europe/Berlin:20240526T140000
DTEND;TZID=Europe/Berlin:20240526T140000
DTSTAMP:20260419T192545
CREATED:20240518T063823Z
LAST-MODIFIED:20240518T063823Z
UID:10001877-1716732000-1716732000@www.meinufg.de
SUMMARY:FC Unterföhring II - SpVgg Feldmoching II
DESCRIPTION:112 KREISKLASSE 2
URL:https://www.meinufg.de/event/fc-unterfoehring-ii-spvgg-feldmoching-ii/
LOCATION:Sportanlage Unterföhring\, Dammstr.\, Unterföhring
CATEGORIES:Sport
ATTACH;FMTTYPE=image/jpeg:https://www.meinufg.de/wp-content/uploads/2023/11/FCU.jpg
ORGANIZER;CN="FC Unterf%C3%B6hring 1927 e.V.":MAILTO:info@fcunterfoehring.de
END:VEVENT
BEGIN:VEVENT
DTSTART;TZID=Europe/Berlin:20240526T163000
DTEND;TZID=Europe/Berlin:20240526T163000
DTSTAMP:20260419T192545
CREATED:20240518T064011Z
LAST-MODIFIED:20240518T064011Z
UID:10001878-1716741000-1716741000@www.meinufg.de
SUMMARY:FC Unterföhring III - ESV München-Ost II
DESCRIPTION:146 C-KLASSE 5
URL:https://www.meinufg.de/event/fc-unterfoehring-iii-esv-muenchen-ost-ii/
LOCATION:Sportanlage Unterföhring\, Dammstr.\, Unterföhring
CATEGORIES:Sport
ATTACH;FMTTYPE=image/jpeg:https://www.meinufg.de/wp-content/uploads/2023/11/FCU.jpg
ORGANIZER;CN="FC Unterf%C3%B6hring 1927 e.V.":MAILTO:info@fcunterfoehring.de
END:VEVENT
END:VCALENDAR