BEGIN:VCALENDAR
VERSION:2.0
PRODID:-//meinUFG - ECPv6.2.3.2//NONSGML v1.0//EN
CALSCALE:GREGORIAN
METHOD:PUBLISH
X-ORIGINAL-URL:https://www.meinufg.de
X-WR-CALDESC:Veranstaltungen für meinUFG
REFRESH-INTERVAL;VALUE=DURATION:PT1H
X-Robots-Tag:noindex
X-PUBLISHED-TTL:PT1H
BEGIN:VTIMEZONE
TZID:Europe/Berlin
BEGIN:DAYLIGHT
TZOFFSETFROM:+0100
TZOFFSETTO:+0200
TZNAME:CEST
DTSTART:20240331T010000
END:DAYLIGHT
BEGIN:STANDARD
TZOFFSETFROM:+0200
TZOFFSETTO:+0100
TZNAME:CET
DTSTART:20241027T010000
END:STANDARD
END:VTIMEZONE
BEGIN:VEVENT
DTSTART;TZID=Europe/Berlin:20240609T080000
DTEND;TZID=Europe/Berlin:20240609T170000
DTSTAMP:20260419T175502
CREATED:20240609T140254Z
LAST-MODIFIED:20240609T140254Z
UID:10001900-1717920000-1717952400@www.meinufg.de
SUMMARY:Der Polarexpress
DESCRIPTION:
URL:https://www.meinufg.de/event/der-polarexpress/
LOCATION:Bürgerhaus Unterföhring\, Münchner Str. 65\, Unterföhring\, 85774
CATEGORIES:Kino
ATTACH;FMTTYPE=image/webp:https://www.meinufg.de/wp-content/uploads/2024/03/Kino.webp
ORGANIZER;CN="B%C3%BCrgerhaus Unterf%C3%B6hring":MAILTO:info@buergerhaus-unterfoehring.de
END:VEVENT
BEGIN:VEVENT
DTSTART;TZID=Europe/Berlin:20240609T110000
DTEND;TZID=Europe/Berlin:20240609T110000
DTSTAMP:20260419T175502
CREATED:20240607T112529Z
LAST-MODIFIED:20240607T112529Z
UID:10001889-1717930800-1717930800@www.meinufg.de
SUMMARY:Jazz im S-Bahnhof Unterföhring
DESCRIPTION:
URL:https://www.meinufg.de/event/jazz-im-s-bahnhof-unterfoehring/
LOCATION:Sbahn Unterföhring
CATEGORIES:Musik
ATTACH;FMTTYPE=image/jpeg:https://www.meinufg.de/wp-content/uploads/2023/06/pexels-ruca-souza-1049690-scaled-e1694283419828.jpg
ORGANIZER;CN="B%C3%BCrgerhaus Unterf%C3%B6hring":MAILTO:info@buergerhaus-unterfoehring.de
END:VEVENT
BEGIN:VEVENT
DTSTART;TZID=Europe/Berlin:20240609T170000
DTEND;TZID=Europe/Berlin:20240609T170000
DTSTAMP:20260419T175502
CREATED:20240606T113227Z
LAST-MODIFIED:20240606T113227Z
UID:10001884-1717952400-1717952400@www.meinufg.de
SUMMARY:FC Unterföhring U19 - JFG Dachau-Land 06 U19
DESCRIPTION:U19 (A-JUN.) KREISKLASSE NORD RR
URL:https://www.meinufg.de/event/fc-unterfoehring-u19-jfg-dachau-land-06-u19/
LOCATION:Sportanlage Unterföhring\, Dammstr.\, Unterföhring
CATEGORIES:Sport
ATTACH;FMTTYPE=image/jpeg:https://www.meinufg.de/wp-content/uploads/2023/11/FCU.jpg
ORGANIZER;CN="FC Unterf%C3%B6hring 1927 e.V.":MAILTO:info@fcunterfoehring.de
END:VEVENT
END:VCALENDAR