BEGIN:VCALENDAR
VERSION:2.0
PRODID:-//meinUFG - ECPv6.2.3.2//NONSGML v1.0//EN
CALSCALE:GREGORIAN
METHOD:PUBLISH
X-WR-CALNAME:meinUFG
X-ORIGINAL-URL:https://www.meinufg.de
X-WR-CALDESC:Veranstaltungen für meinUFG
REFRESH-INTERVAL;VALUE=DURATION:PT1H
X-Robots-Tag:noindex
X-PUBLISHED-TTL:PT1H
BEGIN:VTIMEZONE
TZID:Europe/Berlin
BEGIN:DAYLIGHT
TZOFFSETFROM:+0100
TZOFFSETTO:+0200
TZNAME:CEST
DTSTART:20240331T010000
END:DAYLIGHT
BEGIN:STANDARD
TZOFFSETFROM:+0200
TZOFFSETTO:+0100
TZNAME:CET
DTSTART:20241027T010000
END:STANDARD
END:VTIMEZONE
BEGIN:VEVENT
DTSTART;TZID=Europe/Berlin:20240616T120000
DTEND;TZID=Europe/Berlin:20240616T120000
DTSTAMP:20260419T175233
CREATED:20240606T113533Z
LAST-MODIFIED:20240606T113533Z
UID:10001886-1718539200-1718539200@www.meinufg.de
SUMMARY:FC Unterföhring U14 - (SG) Moosach/Oberpframmern/Glonn/Bruck U14
DESCRIPTION:U14 (JGL) KREISKLASSE OST
URL:https://www.meinufg.de/event/fc-unterfoehring-u14-sg-moosach-oberpframmern-glonn-bruck-u14/
CATEGORIES:Sport
ATTACH;FMTTYPE=image/jpeg:https://www.meinufg.de/wp-content/uploads/2023/11/FCU.jpg
END:VEVENT
BEGIN:VEVENT
DTSTART;TZID=Europe/Berlin:20240616T120000
DTEND;TZID=Europe/Berlin:20240616T120000
DTSTAMP:20260419T175233
CREATED:20240607T111045Z
LAST-MODIFIED:20240607T111045Z
UID:10001887-1718539200-1718539200@www.meinufg.de
SUMMARY:Bürgernachmittag in Unterföhring
DESCRIPTION:
URL:https://www.meinufg.de/event/buergernachmittag-in-unterfoehring/
LOCATION:Bürgerhaus Unterföhring\, Münchner Str. 65\, Unterföhring\, 85774
CATEGORIES:Veranstaltung
ATTACH;FMTTYPE=image/webp:https://www.meinufg.de/wp-content/uploads/2024/06/Event.webp
ORGANIZER;CN="Gemeinde Unterf%C3%B6hring":MAILTO:info@unterfoehring.de
END:VEVENT
END:VCALENDAR