BEGIN:VCALENDAR
VERSION:2.0
PRODID:-//meinUFG - ECPv6.2.3.2//NONSGML v1.0//EN
CALSCALE:GREGORIAN
METHOD:PUBLISH
X-ORIGINAL-URL:https://www.meinufg.de
X-WR-CALDESC:Veranstaltungen für meinUFG
REFRESH-INTERVAL;VALUE=DURATION:PT1H
X-Robots-Tag:noindex
X-PUBLISHED-TTL:PT1H
BEGIN:VTIMEZONE
TZID:Europe/Berlin
BEGIN:DAYLIGHT
TZOFFSETFROM:+0100
TZOFFSETTO:+0200
TZNAME:CEST
DTSTART:20240331T010000
END:DAYLIGHT
BEGIN:STANDARD
TZOFFSETFROM:+0200
TZOFFSETTO:+0100
TZNAME:CET
DTSTART:20241027T010000
END:STANDARD
END:VTIMEZONE
BEGIN:VEVENT
DTSTART;VALUE=DATE:20240621
DTEND;VALUE=DATE:20240626
DTSTAMP:20260419T192654
CREATED:20240116T145926Z
LAST-MODIFIED:20240120T074811Z
UID:10001700-1718928000-1719359999@www.meinufg.de
SUMMARY:Bürgerfest Unterföhring 2024
DESCRIPTION:
URL:https://www.meinufg.de/event/buergerfest-unterfoehring-2024/
LOCATION:Festplatz an der Jahnstr.
CATEGORIES:Veranstaltung
ATTACH;FMTTYPE=image/jpeg:https://www.meinufg.de/wp-content/uploads/2024/01/Buergerfest.jpeg
ORGANIZER;CN="Gemeinde Unterf%C3%B6hring":MAILTO:info@unterfoehring.de
END:VEVENT
BEGIN:VEVENT
DTSTART;TZID=Europe/Berlin:20240622T080000
DTEND;TZID=Europe/Berlin:20240622T130000
DTSTAMP:20260419T192654
CREATED:20231027T051848Z
LAST-MODIFIED:20231030T220154Z
UID:10000673-1719043200-1719061200@www.meinufg.de
SUMMARY:Wochenmarkt in Unterföhring
DESCRIPTION:
URL:https://www.meinufg.de/event/wochenmarkt-in-unterfoehring/2024-06-22/
LOCATION:Bürgerhaus Unterföhring\, Münchner Str. 65\, Unterföhring\, 85774
CATEGORIES:Veranstaltung
ATTACH;FMTTYPE=image/webp:https://www.meinufg.de/wp-content/uploads/2023/10/Wochenmarkt-scaled-e1698703250730.webp
ORGANIZER;CN="Gemeinde Unterf%C3%B6hring":MAILTO:info@unterfoehring.de
END:VEVENT
END:VCALENDAR