BEGIN:VCALENDAR
VERSION:2.0
PRODID:-//meinUFG - ECPv6.2.3.2//NONSGML v1.0//EN
CALSCALE:GREGORIAN
METHOD:PUBLISH
X-WR-CALNAME:meinUFG
X-ORIGINAL-URL:https://www.meinufg.de
X-WR-CALDESC:Veranstaltungen für meinUFG
REFRESH-INTERVAL;VALUE=DURATION:PT1H
X-Robots-Tag:noindex
X-PUBLISHED-TTL:PT1H
BEGIN:VTIMEZONE
TZID:Europe/Berlin
BEGIN:DAYLIGHT
TZOFFSETFROM:+0100
TZOFFSETTO:+0200
TZNAME:CEST
DTSTART:20240331T010000
END:DAYLIGHT
BEGIN:STANDARD
TZOFFSETFROM:+0200
TZOFFSETTO:+0100
TZNAME:CET
DTSTART:20241027T010000
END:STANDARD
END:VTIMEZONE
BEGIN:VEVENT
DTSTART;TZID=Europe/Berlin:20240628T150000
DTEND;TZID=Europe/Berlin:20240628T170000
DTSTAMP:20260424T121620
CREATED:20240604T195633Z
LAST-MODIFIED:20240604T195633Z
UID:10001881-1719586800-1719594000@www.meinufg.de
SUMMARY:Flohmarkt des Gymnasiums Unterföhring
DESCRIPTION:
URL:https://www.meinufg.de/event/flohmarkt-des-gymnasiums-unterfoehring/
LOCATION:Gymnasium Unterföhring
CATEGORIES:Veranstaltung
ATTACH;FMTTYPE=image/jpeg:https://www.meinufg.de/wp-content/uploads/2023/10/pexels-cottonbro-studio-6068960-scaled-e1696513805394.webp
END:VEVENT
END:VCALENDAR