BEGIN:VCALENDAR
VERSION:2.0
PRODID:-//meinUFG - ECPv6.2.3.2//NONSGML v1.0//EN
CALSCALE:GREGORIAN
METHOD:PUBLISH
X-ORIGINAL-URL:https://www.meinufg.de
X-WR-CALDESC:Veranstaltungen für meinUFG
REFRESH-INTERVAL;VALUE=DURATION:PT1H
X-Robots-Tag:noindex
X-PUBLISHED-TTL:PT1H
BEGIN:VTIMEZONE
TZID:Europe/Berlin
BEGIN:DAYLIGHT
TZOFFSETFROM:+0100
TZOFFSETTO:+0200
TZNAME:CEST
DTSTART:20240331T010000
END:DAYLIGHT
BEGIN:STANDARD
TZOFFSETFROM:+0200
TZOFFSETTO:+0100
TZNAME:CET
DTSTART:20241027T010000
END:STANDARD
END:VTIMEZONE
BEGIN:VEVENT
DTSTART;TZID=Europe/Berlin:20240921T080000
DTEND;TZID=Europe/Berlin:20240921T130000
DTSTAMP:20260421T130742
CREATED:20231027T051848Z
LAST-MODIFIED:20231030T220154Z
UID:10000686-1726905600-1726923600@www.meinufg.de
SUMMARY:Wochenmarkt in Unterföhring
DESCRIPTION:
URL:https://www.meinufg.de/event/wochenmarkt-in-unterfoehring/2024-09-21/
LOCATION:Bürgerhaus Unterföhring\, Münchner Str. 65\, Unterföhring\, 85774
CATEGORIES:Veranstaltung
ATTACH;FMTTYPE=image/webp:https://www.meinufg.de/wp-content/uploads/2023/10/Wochenmarkt-scaled-e1698703250730.webp
ORGANIZER;CN="Gemeinde Unterf%C3%B6hring":MAILTO:info@unterfoehring.de
END:VEVENT
BEGIN:VEVENT
DTSTART;TZID=Europe/Berlin:20240921T113000
DTEND;TZID=Europe/Berlin:20240921T113000
DTSTAMP:20260421T130742
CREATED:20240908T171235Z
LAST-MODIFIED:20240908T171254Z
UID:10001910-1726918200-1726918200@www.meinufg.de
SUMMARY:Wiesenanstich 2024
DESCRIPTION:
URL:https://www.meinufg.de/event/wiesenanstich-2024/
LOCATION:1. Kleingartenverein\, Aschheimer Weg 19\, Unterföhring\, 85774
CATEGORIES:Veranstaltung
ATTACH;FMTTYPE=image/jpeg:https://www.meinufg.de/wp-content/uploads/2024/01/Bier.jpeg
ORGANIZER;CN="1. Kleingartenverein":MAILTO:Vorsitzender@kleingartenverein-ufg.de
END:VEVENT
BEGIN:VEVENT
DTSTART;TZID=Europe/Berlin:20240921T130000
DTEND;TZID=Europe/Berlin:20240921T130000
DTSTAMP:20260421T130742
CREATED:20240908T171818Z
LAST-MODIFIED:20240908T172032Z
UID:10001911-1726923600-1726923600@www.meinufg.de
SUMMARY:Manga Day
DESCRIPTION:
URL:https://www.meinufg.de/event/halloweenparty-unterfoehring/
LOCATION:Bürgerhaus Unterföhring\, Münchner Str. 65\, Unterföhring\, 85774
CATEGORIES:Veranstaltung
ATTACH;FMTTYPE=image/jpeg:https://www.meinufg.de/wp-content/uploads/2024/09/comic-con-anime-characters-mask.jpg
ORGANIZER;CN="F%C3%B6hringer Gsindl":MAILTO:Kontakt@foehringer-gsindl.de
END:VEVENT
END:VCALENDAR