BEGIN:VCALENDAR
VERSION:2.0
PRODID:-//meinUFG - ECPv6.2.3.2//NONSGML v1.0//EN
CALSCALE:GREGORIAN
METHOD:PUBLISH
X-ORIGINAL-URL:https://www.meinufg.de
X-WR-CALDESC:Veranstaltungen für meinUFG
REFRESH-INTERVAL;VALUE=DURATION:PT1H
X-Robots-Tag:noindex
X-PUBLISHED-TTL:PT1H
BEGIN:VTIMEZONE
TZID:Europe/Berlin
BEGIN:DAYLIGHT
TZOFFSETFROM:+0100
TZOFFSETTO:+0200
TZNAME:CEST
DTSTART:20240331T010000
END:DAYLIGHT
BEGIN:STANDARD
TZOFFSETFROM:+0200
TZOFFSETTO:+0100
TZNAME:CET
DTSTART:20241027T010000
END:STANDARD
END:VTIMEZONE
BEGIN:VEVENT
DTSTART;TZID=Europe/Berlin:20240929T100000
DTEND;TZID=Europe/Berlin:20240929T100000
DTSTAMP:20260421T104127
CREATED:20240924T204525Z
LAST-MODIFIED:20240924T204525Z
UID:10001925-1727604000-1727604000@www.meinufg.de
SUMMARY:FC Unterföhring U10-2 - FC Rot-Weiß Oberföhring U10-1
DESCRIPTION:
URL:https://www.meinufg.de/event/fc-unterfoehring-u10-2-fc-rot-weiss-oberfoehring-u10-1/
LOCATION:Sportanlage Unterföhring\, Dammstr.\, Unterföhring
CATEGORIES:Sport
ATTACH;FMTTYPE=image/jpeg:https://www.meinufg.de/wp-content/uploads/2023/11/FCU.jpg
ORGANIZER;CN="FC Unterf%C3%B6hring 1927 e.V.":MAILTO:info@fcunterfoehring.de
END:VEVENT
BEGIN:VEVENT
DTSTART;TZID=Europe/Berlin:20240929T120000
DTEND;TZID=Europe/Berlin:20240929T120000
DTSTAMP:20260421T104127
CREATED:20240924T204655Z
LAST-MODIFIED:20240924T204707Z
UID:10001926-1727611200-1727611200@www.meinufg.de
SUMMARY:FC Unterföhring U14-1 - SpVgg Unterhaching U14-2
DESCRIPTION:U14 (JgL) Kreisliga 2
URL:https://www.meinufg.de/event/fc-unterfoehring-u14-1-spvgg-unterhaching-u14-2/
LOCATION:Sportanlage Unterföhring\, Dammstr.\, Unterföhring
CATEGORIES:Sport
ATTACH;FMTTYPE=image/jpeg:https://www.meinufg.de/wp-content/uploads/2023/11/FCU.jpg
ORGANIZER;CN="FC Unterf%C3%B6hring 1927 e.V.":MAILTO:info@fcunterfoehring.de
END:VEVENT
END:VCALENDAR