BEGIN:VCALENDAR
VERSION:2.0
PRODID:-//meinUFG - ECPv6.2.3.2//NONSGML v1.0//EN
CALSCALE:GREGORIAN
METHOD:PUBLISH
X-ORIGINAL-URL:https://www.meinufg.de
X-WR-CALDESC:Veranstaltungen für meinUFG
REFRESH-INTERVAL;VALUE=DURATION:PT1H
X-Robots-Tag:noindex
X-PUBLISHED-TTL:PT1H
BEGIN:VTIMEZONE
TZID:Europe/Berlin
BEGIN:DAYLIGHT
TZOFFSETFROM:+0100
TZOFFSETTO:+0200
TZNAME:CEST
DTSTART:20250330T010000
END:DAYLIGHT
BEGIN:STANDARD
TZOFFSETFROM:+0200
TZOFFSETTO:+0100
TZNAME:CET
DTSTART:20251026T010000
END:STANDARD
END:VTIMEZONE
BEGIN:VEVENT
DTSTART;TZID=Europe/Berlin:20250127T190000
DTEND;TZID=Europe/Berlin:20250127T190000
DTSTAMP:20260421T104024
CREATED:20240505T194645Z
LAST-MODIFIED:20250120T130743Z
UID:10001865-1738004400-1738004400@www.meinufg.de
SUMMARY:SPD - Europas Sicherheit trotz/mit Trump
DESCRIPTION:
URL:https://www.meinufg.de/event/spd-europas-sicherheit-trotz-mit-trump-unterfoehring/
LOCATION:Volkshochschule\, Am Bahnhof 13\, Unterföhring\, 85774
CATEGORIES:Politik,Veranstaltung
ATTACH;FMTTYPE=image/jpeg:https://www.meinufg.de/wp-content/uploads/2023/09/pexels-luis-quintero-2774556-scaled-e1694283533442.jpg
ORGANIZER;CN="SPD Unterf%C3%B6hring":MAILTO:info@spd-unterfoehring.de
END:VEVENT
END:VCALENDAR