BEGIN:VCALENDAR
VERSION:2.0
PRODID:-//meinUFG - ECPv6.2.3.2//NONSGML v1.0//EN
CALSCALE:GREGORIAN
METHOD:PUBLISH
X-WR-CALNAME:meinUFG
X-ORIGINAL-URL:https://www.meinufg.de
X-WR-CALDESC:Veranstaltungen für meinUFG
REFRESH-INTERVAL;VALUE=DURATION:PT1H
X-Robots-Tag:noindex
X-PUBLISHED-TTL:PT1H
BEGIN:VTIMEZONE
TZID:Europe/Berlin
BEGIN:DAYLIGHT
TZOFFSETFROM:+0100
TZOFFSETTO:+0200
TZNAME:CEST
DTSTART:20250330T010000
END:DAYLIGHT
BEGIN:STANDARD
TZOFFSETFROM:+0200
TZOFFSETTO:+0100
TZNAME:CET
DTSTART:20251026T010000
END:STANDARD
END:VTIMEZONE
BEGIN:VEVENT
DTSTART;TZID=Europe/Berlin:20250223T150000
DTEND;TZID=Europe/Berlin:20250223T150000
DTSTAMP:20260421T103606
CREATED:20250120T131958Z
LAST-MODIFIED:20250120T131958Z
UID:10002001-1740322800-1740322800@www.meinufg.de
SUMMARY:Sonntagskino - Spuk unterm Riesenrad
DESCRIPTION:
URL:https://www.meinufg.de/event/sonntagskino-spuk-unterm-riesenrad/
LOCATION:Bürgerhaus Unterföhring\, Münchner Str. 65\, Unterföhring\, 85774
CATEGORIES:Kinder,Kino,Veranstaltung
ATTACH;FMTTYPE=image/webp:https://www.meinufg.de/wp-content/uploads/2024/03/Kino.webp
ORGANIZER;CN="B%C3%BCrgerhaus Unterf%C3%B6hring":MAILTO:info@buergerhaus-unterfoehring.de
END:VEVENT
BEGIN:VEVENT
DTSTART;TZID=Europe/Berlin:20250223T150000
DTEND;TZID=Europe/Berlin:20250223T180000
DTSTAMP:20260421T103606
CREATED:20250120T121627Z
LAST-MODIFIED:20250120T121627Z
UID:10001997-1740322800-1740333600@www.meinufg.de
SUMMARY:Kolpingfamilie - Kinderfaschingsball
DESCRIPTION:
URL:https://www.meinufg.de/event/kolpingfamilie-kinderfaschingsball/
LOCATION:Kath. Pfarrzentum\, St.-Valentin Weg 1\, Unterföhring\, 85774
CATEGORIES:Kinder,Veranstaltung
ATTACH;FMTTYPE=image/webp:https://www.meinufg.de/wp-content/uploads/2025/01/pexels-couleur-19879255.webp
END:VEVENT
END:VCALENDAR