BEGIN:VCALENDAR
VERSION:2.0
PRODID:-//meinUFG - ECPv6.2.3.2//NONSGML v1.0//EN
CALSCALE:GREGORIAN
METHOD:PUBLISH
X-WR-CALNAME:meinUFG
X-ORIGINAL-URL:https://www.meinufg.de
X-WR-CALDESC:Veranstaltungen für meinUFG
REFRESH-INTERVAL;VALUE=DURATION:PT1H
X-Robots-Tag:noindex
X-PUBLISHED-TTL:PT1H
BEGIN:VTIMEZONE
TZID:Europe/Berlin
BEGIN:DAYLIGHT
TZOFFSETFROM:+0100
TZOFFSETTO:+0200
TZNAME:CEST
DTSTART:20240331T010000
END:DAYLIGHT
BEGIN:STANDARD
TZOFFSETFROM:+0200
TZOFFSETTO:+0100
TZNAME:CET
DTSTART:20241027T010000
END:STANDARD
END:VTIMEZONE
BEGIN:VEVENT
DTSTART;VALUE=DATE:20240203
DTEND;VALUE=DATE:20240204
DTSTAMP:20260423T110624
CREATED:20240116T154214Z
LAST-MODIFIED:20240120T073529Z
UID:10001711-1706918400-1707004799@www.meinufg.de
SUMMARY:Blaskapelle – Neujahrskonzert
DESCRIPTION:
URL:https://www.meinufg.de/event/blaskapelle-neujahrskonzert/
CATEGORIES:Musik,Veranstaltung
ATTACH;FMTTYPE=image/jpeg:https://www.meinufg.de/wp-content/uploads/2024/01/coming-soon.jpeg
END:VEVENT
BEGIN:VEVENT
DTSTART;TZID=Europe/Berlin:20240203T080000
DTEND;TZID=Europe/Berlin:20240203T130000
DTSTAMP:20260423T110624
CREATED:20231027T051848Z
LAST-MODIFIED:20231030T220154Z
UID:10000653-1706947200-1706965200@www.meinufg.de
SUMMARY:Wochenmarkt in Unterföhring
DESCRIPTION:
URL:https://www.meinufg.de/event/wochenmarkt-in-unterfoehring/2024-02-03/
LOCATION:Bürgerhaus Unterföhring\, Münchner Str. 65\, Unterföhring\, 85774
CATEGORIES:Veranstaltung
ATTACH;FMTTYPE=image/webp:https://www.meinufg.de/wp-content/uploads/2023/10/Wochenmarkt-scaled-e1698703250730.webp
ORGANIZER;CN="Gemeinde Unterf%C3%B6hring":MAILTO:info@unterfoehring.de
END:VEVENT
BEGIN:VEVENT
DTSTART;TZID=Europe/Berlin:20240203T180000
DTEND;TZID=Europe/Berlin:20240203T213000
DTSTAMP:20260423T110624
CREATED:20240116T152617Z
LAST-MODIFIED:20240116T152802Z
UID:10001710-1706983200-1706995800@www.meinufg.de
SUMMARY:Kolpingsfamilie – Celebration Saturday (9-13 Jahre)
DESCRIPTION:
URL:https://www.meinufg.de/event/kolpingsfamilie-celebration-saturday-unterfoehring/
LOCATION:Kath. Pfarrzentum\, St.-Valentin Weg 1\, Unterföhring\, 85774
CATEGORIES:Musik,Veranstaltung
ATTACH;FMTTYPE=image/jpeg:https://www.meinufg.de/wp-content/uploads/2024/01/Disco.jpeg
END:VEVENT
BEGIN:VEVENT
DTSTART;TZID=Europe/Berlin:20240203T193000
DTEND;TZID=Europe/Berlin:20240203T193000
DTSTAMP:20260423T110624
CREATED:20240121T180109Z
LAST-MODIFIED:20240121T180114Z
UID:10001715-1706988600-1706988600@www.meinufg.de
SUMMARY:Blaskapelle Unterföhring & Jugend- und Nachwuchskapelle "On Stage"
DESCRIPTION:
URL:https://www.meinufg.de/event/blaskapelle-unterfoehring-jugend-und-nachwuchskapelle-on-stage/
LOCATION:Bürgerhaus Unterföhring\, Münchner Str. 65\, Unterföhring\, 85774
CATEGORIES:Musik
ATTACH;FMTTYPE=image/jpeg:https://www.meinufg.de/wp-content/uploads/2023/06/pexels-ruca-souza-1049690-scaled-e1694283419828.jpg
END:VEVENT
BEGIN:VEVENT
DTSTART;TZID=Europe/Berlin:20240204T140000
DTEND;TZID=Europe/Berlin:20240204T140000
DTSTAMP:20260423T110624
CREATED:20240110T165142Z
LAST-MODIFIED:20240110T165159Z
UID:10001684-1707055200-1707055200@www.meinufg.de
SUMMARY:FCU II - ESV Freimann (Testspiel)
DESCRIPTION:
URL:https://www.meinufg.de/event/fc-unterfoehring-fussballspiel-4/
CATEGORIES:Sport
ATTACH;FMTTYPE=image/jpeg:https://www.meinufg.de/wp-content/uploads/2023/11/FCU.jpg
ORGANIZER;CN="FC Unterf%C3%B6hring 1927 e.V.":MAILTO:info@fcunterfoehring.de
END:VEVENT
BEGIN:VEVENT
DTSTART;TZID=Europe/Berlin:20240204T150000
DTEND;TZID=Europe/Berlin:20240204T150000
DTSTAMP:20260423T110624
CREATED:20240113T120256Z
LAST-MODIFIED:20240113T120300Z
UID:10001696-1707058800-1707058800@www.meinufg.de
SUMMARY:Das Lehrerzimmer - Kino
DESCRIPTION:
URL:https://www.meinufg.de/event/das-lehrerzimmer-kino-unterfoehring/
LOCATION:Bürgerhaus Unterföhring\, Münchner Str. 65\, Unterföhring\, 85774
CATEGORIES:Kino
ATTACH;FMTTYPE=image/jpeg:https://www.meinufg.de/wp-content/uploads/2023/11/Kino.jpg
ORGANIZER;CN="B%C3%BCrgerhaus Unterf%C3%B6hring":MAILTO:info@buergerhaus-unterfoehring.de
END:VEVENT
BEGIN:VEVENT
DTSTART;TZID=Europe/Berlin:20240204T150000
DTEND;TZID=Europe/Berlin:20240204T150000
DTSTAMP:20260423T110624
CREATED:20240116T151808Z
LAST-MODIFIED:20240116T151832Z
UID:10001709-1707058800-1707058800@www.meinufg.de
SUMMARY:Kolpingsfamilie – Kinderfaschingsball
DESCRIPTION:
URL:https://www.meinufg.de/event/kolpingsfamilie-kinderfaschingsball-unterfoehring/
LOCATION:Kath. Pfarrzentum\, St.-Valentin Weg 1\, Unterföhring\, 85774
CATEGORIES:Veranstaltung
ATTACH;FMTTYPE=image/jpeg:https://www.meinufg.de/wp-content/uploads/2023/12/Karneval.jpg
END:VEVENT
BEGIN:VEVENT
DTSTART;TZID=Europe/Berlin:20240204T163000
DTEND;TZID=Europe/Berlin:20240204T163000
DTSTAMP:20260423T110624
CREATED:20240110T165330Z
LAST-MODIFIED:20240110T165342Z
UID:10001685-1707064200-1707064200@www.meinufg.de
SUMMARY:FCU III - SV Dornach II (Testspiel)
DESCRIPTION:
URL:https://www.meinufg.de/event/fc-unterfoehring-fussballspiel-5/
CATEGORIES:Sport
ATTACH;FMTTYPE=image/jpeg:https://www.meinufg.de/wp-content/uploads/2023/11/FCU.jpg
ORGANIZER;CN="FC Unterf%C3%B6hring 1927 e.V.":MAILTO:info@fcunterfoehring.de
END:VEVENT
BEGIN:VEVENT
DTSTART;TZID=Europe/Berlin:20240207T190000
DTEND;TZID=Europe/Berlin:20240207T190000
DTSTAMP:20260423T110624
CREATED:20240201T212658Z
LAST-MODIFIED:20240201T213607Z
UID:10001718-1707332400-1707332400@www.meinufg.de
SUMMARY:Mom‘s Night Out Unterföhring
DESCRIPTION:
URL:https://www.meinufg.de/event/moms-night-out-unterfoehring/
LOCATION:Ristorante Il Diamante\, Münchner Str. 65\, Unterföhring\, 85774
CATEGORIES:Veranstaltung
ATTACH;FMTTYPE=image/webp:https://www.meinufg.de/wp-content/uploads/2024/02/Essen.webp
END:VEVENT
BEGIN:VEVENT
DTSTART;TZID=Europe/Berlin:20240208T190000
DTEND;TZID=Europe/Berlin:20240208T190000
DTSTAMP:20260423T110624
CREATED:20240201T211552Z
LAST-MODIFIED:20240201T211928Z
UID:10001716-1707418800-1707418800@www.meinufg.de
SUMMARY:Öffentliche Sitzung des Gemeinderates
DESCRIPTION:
URL:https://www.meinufg.de/event/oeffentliche-sitzung-des-gemeinderates-unterfoehring/
LOCATION:Gemeinde Unterföhring\, Münchner Str. 70\, Unterföhring\, 85774
CATEGORIES:Politik
ATTACH;FMTTYPE=image/jpeg:https://www.meinufg.de/wp-content/uploads/2023/10/pexels-alexander-zvir-5826001-scaled-e1696514064462.webp
ORGANIZER;CN="Gemeinde Unterf%C3%B6hring":MAILTO:info@unterfoehring.de
END:VEVENT
BEGIN:VEVENT
DTSTART;VALUE=DATE:20240209
DTEND;VALUE=DATE:20240210
DTSTAMP:20260423T110624
CREATED:20240116T151327Z
LAST-MODIFIED:20240120T074024Z
UID:10001708-1707436800-1707523199@www.meinufg.de
SUMMARY:SG Immergrün – Faschingsschießen
DESCRIPTION:
URL:https://www.meinufg.de/event/sg-immergruen-faschingsschiessen-unterfoehring/
CATEGORIES:Veranstaltung
ATTACH;FMTTYPE=image/jpeg:https://www.meinufg.de/wp-content/uploads/2023/12/Schuetzen-scaled-e1702365559925.jpg
END:VEVENT
BEGIN:VEVENT
DTSTART;TZID=Europe/Berlin:20240209T160000
DTEND;TZID=Europe/Berlin:20240209T170000
DTSTAMP:20260423T110624
CREATED:20240209T082804Z
LAST-MODIFIED:20240209T082854Z
UID:10001727-1707494400-1707498000@www.meinufg.de
SUMMARY:Kinder Vorlesestunde in der Gemeindebibliothek
DESCRIPTION:
URL:https://www.meinufg.de/event/kinder-vorlesestunde-in-der-gemeindebibliothek-unterfoehring/
LOCATION:Bürgerhaus Unterföhring\, Münchner Str. 65\, Unterföhring\, 85774
CATEGORIES:Veranstaltung
ATTACH;FMTTYPE=image/jpeg:https://www.meinufg.de/wp-content/uploads/2024/02/lesen.jpeg
END:VEVENT
BEGIN:VEVENT
DTSTART;TZID=Europe/Berlin:20240210T080000
DTEND;TZID=Europe/Berlin:20240210T130000
DTSTAMP:20260423T110624
CREATED:20231027T051848Z
LAST-MODIFIED:20231030T220154Z
UID:10000654-1707552000-1707570000@www.meinufg.de
SUMMARY:Wochenmarkt in Unterföhring
DESCRIPTION:
URL:https://www.meinufg.de/event/wochenmarkt-in-unterfoehring/2024-02-10/
LOCATION:Bürgerhaus Unterföhring\, Münchner Str. 65\, Unterföhring\, 85774
CATEGORIES:Veranstaltung
ATTACH;FMTTYPE=image/webp:https://www.meinufg.de/wp-content/uploads/2023/10/Wochenmarkt-scaled-e1698703250730.webp
ORGANIZER;CN="Gemeinde Unterf%C3%B6hring":MAILTO:info@unterfoehring.de
END:VEVENT
BEGIN:VEVENT
DTSTART;TZID=Europe/Berlin:20240210T090000
DTEND;TZID=Europe/Berlin:20240210T120000
DTSTAMP:20260423T110624
CREATED:20240209T082224Z
LAST-MODIFIED:20240209T082249Z
UID:10001726-1707555600-1707566400@www.meinufg.de
SUMMARY:Kostenfreien Crash-Kurs „Selbstverteidigung – Nur für Frauen
DESCRIPTION:Wo? Turnhalle (2. OG) an der Münchner Straße 74a
URL:https://www.meinufg.de/event/kostenfreien-crash-kurs-selbstverteidigung-nur-fuer-frauen/
CATEGORIES:Sport
ATTACH;FMTTYPE=image/jpeg:https://www.meinufg.de/wp-content/uploads/2024/02/Selbstverteidigung.jpeg
END:VEVENT
BEGIN:VEVENT
DTSTART;TZID=Europe/Berlin:20240210T090000
DTEND;TZID=Europe/Berlin:20240210T190000
DTSTAMP:20260423T110624
CREATED:20240209T081500Z
LAST-MODIFIED:20240209T081508Z
UID:10001724-1707555600-1707591600@www.meinufg.de
SUMMARY:FCU Jugend Hallenturnier U9 U10
DESCRIPTION:
URL:https://www.meinufg.de/event/fcu-jugend-hallenturniere-u9-u10-unterfoehring/
LOCATION:Sportzentrum\, Jahnstraße 5\, Unterföhring\, 85774
CATEGORIES:Sport
ATTACH;FMTTYPE=image/jpeg:https://www.meinufg.de/wp-content/uploads/2024/01/Hallenfussball-e1705073864199.jpg
ORGANIZER;CN="FC Unterf%C3%B6hring 1927 e.V.":MAILTO:info@fcunterfoehring.de
END:VEVENT
BEGIN:VEVENT
DTSTART;TZID=Europe/Berlin:20240210T140000
DTEND;TZID=Europe/Berlin:20240210T140000
DTSTAMP:20260423T110624
CREATED:20240209T080854Z
LAST-MODIFIED:20240209T080854Z
UID:10001722-1707573600-1707573600@www.meinufg.de
SUMMARY:FCU 1. Mannschaft - SV Nord Lerchenau Testspiel
DESCRIPTION:
URL:https://www.meinufg.de/event/fcu-1-mannschaft-sv-nord-lerchenau-testspiel/
CATEGORIES:Sport
ATTACH;FMTTYPE=image/jpeg:https://www.meinufg.de/wp-content/uploads/2023/11/FCU.jpg
ORGANIZER;CN="FC Unterf%C3%B6hring 1927 e.V.":MAILTO:info@fcunterfoehring.de
END:VEVENT
BEGIN:VEVENT
DTSTART;TZID=Europe/Berlin:20240211T090000
DTEND;TZID=Europe/Berlin:20240211T190000
DTSTAMP:20260423T110624
CREATED:20240209T081614Z
LAST-MODIFIED:20240209T081614Z
UID:10001725-1707642000-1707678000@www.meinufg.de
SUMMARY:FCU Jugend Hallenturnier U9 U10
DESCRIPTION:
URL:https://www.meinufg.de/event/fcu-jugend-hallenturnier-u9-u10-unterfoehring/
LOCATION:Sportzentrum\, Jahnstraße 5\, Unterföhring\, 85774
ATTACH;FMTTYPE=image/jpeg:https://www.meinufg.de/wp-content/uploads/2024/01/Hallenfussball-e1705073864199.jpg
ORGANIZER;CN="FC Unterf%C3%B6hring 1927 e.V.":MAILTO:info@fcunterfoehring.de
END:VEVENT
BEGIN:VEVENT
DTSTART;TZID=Europe/Berlin:20240211T100000
DTEND;TZID=Europe/Berlin:20240211T140000
DTSTAMP:20260423T110624
CREATED:20240201T214305Z
LAST-MODIFIED:20240201T214305Z
UID:10001719-1707645600-1707660000@www.meinufg.de
SUMMARY:Alleinerziehenden-Treff
DESCRIPTION:
URL:https://www.meinufg.de/event/einladung-zum-alleinerziehenden-treff-unterfoehring/
LOCATION:FEZI\, Jahnstraße 3\, Unterföhring\, 85774
CATEGORIES:Veranstaltung
ATTACH;FMTTYPE=image/jpeg:https://www.meinufg.de/wp-content/uploads/2024/01/coming-soon.jpeg
END:VEVENT
BEGIN:VEVENT
DTSTART;TZID=Europe/Berlin:20240211T140000
DTEND;TZID=Europe/Berlin:20240211T140000
DTSTAMP:20260423T110624
CREATED:20240209T080421Z
LAST-MODIFIED:20240209T080656Z
UID:10001721-1707660000-1707660000@www.meinufg.de
SUMMARY:FCU 2. Mannschaft - SC Inhauser Moos Testspiel
DESCRIPTION:
URL:https://www.meinufg.de/event/fcu-sv-nord-lerchenau-testspiel-unterfoehring/
CATEGORIES:Sport
ATTACH;FMTTYPE=image/jpeg:https://www.meinufg.de/wp-content/uploads/2023/11/FCU.jpg
ORGANIZER;CN="FC Unterf%C3%B6hring 1927 e.V.":MAILTO:info@fcunterfoehring.de
END:VEVENT
BEGIN:VEVENT
DTSTART;TZID=Europe/Berlin:20240211T150000
DTEND;TZID=Europe/Berlin:20240211T150000
DTSTAMP:20260423T110624
CREATED:20240113T120428Z
LAST-MODIFIED:20240113T120436Z
UID:10001697-1707663600-1707663600@www.meinufg.de
SUMMARY:Kannawoniwasein! - Kino
DESCRIPTION:
URL:https://www.meinufg.de/event/kannawoniwasein-kino-unterfoehring/
LOCATION:Bürgerhaus Unterföhring\, Münchner Str. 65\, Unterföhring\, 85774
CATEGORIES:Kino
ATTACH;FMTTYPE=image/jpeg:https://www.meinufg.de/wp-content/uploads/2023/11/Kino.jpg
ORGANIZER;CN="B%C3%BCrgerhaus Unterf%C3%B6hring":MAILTO:info@buergerhaus-unterfoehring.de
END:VEVENT
BEGIN:VEVENT
DTSTART;TZID=Europe/Berlin:20240211T163000
DTEND;TZID=Europe/Berlin:20240211T163000
DTSTAMP:20260423T110624
CREATED:20240209T081039Z
LAST-MODIFIED:20240209T081136Z
UID:10001723-1707669000-1707669000@www.meinufg.de
SUMMARY:FCU 3. Mannschaft -SV am Hart II Testspiel
DESCRIPTION:
URL:https://www.meinufg.de/event/fcu-3-mannschaft-sv-am-hart-ii-testspiel-unterfoehring/
CATEGORIES:Sport
ATTACH;FMTTYPE=image/jpeg:https://www.meinufg.de/wp-content/uploads/2023/11/FCU.jpg
ORGANIZER;CN="FC Unterf%C3%B6hring 1927 e.V.":MAILTO:info@fcunterfoehring.de
END:VEVENT
BEGIN:VEVENT
DTSTART;TZID=Europe/Berlin:20240214T190000
DTEND;TZID=Europe/Berlin:20240214T190000
DTSTAMP:20260423T110624
CREATED:20240212T100743Z
LAST-MODIFIED:20240212T102535Z
UID:10001730-1707937200-1707937200@www.meinufg.de
SUMMARY:FC Unterföhring - Türkgücü München
DESCRIPTION:
URL:https://www.meinufg.de/event/fc-unterfoehring-tuerkguecue-muenchen-fussball/
LOCATION:Sportanlage Unterföhring\, Dammstr.\, Unterföhring
CATEGORIES:Sport
ATTACH;FMTTYPE=image/jpeg:https://www.meinufg.de/wp-content/uploads/2023/11/FCU.jpg
ORGANIZER;CN="FC Unterf%C3%B6hring 1927 e.V.":MAILTO:info@fcunterfoehring.de
END:VEVENT
BEGIN:VEVENT
DTSTART;VALUE=DATE:20240216
DTEND;VALUE=DATE:20240219
DTSTAMP:20260423T110624
CREATED:20240116T151232Z
LAST-MODIFIED:20240120T074111Z
UID:10001707-1708041600-1708300799@www.meinufg.de
SUMMARY:Kegelclub – Bürgerkegeln
DESCRIPTION:
URL:https://www.meinufg.de/event/kegelclub-buergerkegeln/
CATEGORIES:Sport
ATTACH;FMTTYPE=image/jpeg:https://www.meinufg.de/wp-content/uploads/2024/01/Kegeln.jpeg
END:VEVENT
BEGIN:VEVENT
DTSTART;TZID=Europe/Berlin:20240217T080000
DTEND;TZID=Europe/Berlin:20240217T130000
DTSTAMP:20260423T110624
CREATED:20231027T051848Z
LAST-MODIFIED:20231030T220154Z
UID:10000655-1708156800-1708174800@www.meinufg.de
SUMMARY:Wochenmarkt in Unterföhring
DESCRIPTION:
URL:https://www.meinufg.de/event/wochenmarkt-in-unterfoehring/2024-02-17/
LOCATION:Bürgerhaus Unterföhring\, Münchner Str. 65\, Unterföhring\, 85774
CATEGORIES:Veranstaltung
ATTACH;FMTTYPE=image/webp:https://www.meinufg.de/wp-content/uploads/2023/10/Wochenmarkt-scaled-e1698703250730.webp
ORGANIZER;CN="Gemeinde Unterf%C3%B6hring":MAILTO:info@unterfoehring.de
END:VEVENT
BEGIN:VEVENT
DTSTART;TZID=Europe/Berlin:20240217T110000
DTEND;TZID=Europe/Berlin:20240217T110000
DTSTAMP:20260423T110624
CREATED:20240212T100913Z
LAST-MODIFIED:20240212T100913Z
UID:10001731-1708167600-1708167600@www.meinufg.de
SUMMARY:FC Unterföhring U13-1 - TSV Grünwald 1 U13
DESCRIPTION:
URL:https://www.meinufg.de/event/fc-unterfoehring-u13-1-tsv-gruenwald-1-u13/
LOCATION:Sportanlage Unterföhring\, Dammstr.\, Unterföhring
CATEGORIES:Sport
ATTACH;FMTTYPE=image/jpeg:https://www.meinufg.de/wp-content/uploads/2023/11/FCU.jpg
ORGANIZER;CN="FC Unterf%C3%B6hring 1927 e.V.":MAILTO:info@fcunterfoehring.de
END:VEVENT
BEGIN:VEVENT
DTSTART;TZID=Europe/Berlin:20240217T150000
DTEND;TZID=Europe/Berlin:20240217T150000
DTSTAMP:20260423T110624
CREATED:20240201T212217Z
LAST-MODIFIED:20240201T212217Z
UID:10001717-1708182000-1708182000@www.meinufg.de
SUMMARY:Reparaturcafé „UnterFAIRepair“
DESCRIPTION:
URL:https://www.meinufg.de/event/reparaturcafe-unterfairepair-unterfoehring/
LOCATION:Volkshochschule\, Am Bahnhof 13\, Unterföhring\, 85774
CATEGORIES:Veranstaltung
ATTACH;FMTTYPE=image/jpeg:https://www.meinufg.de/wp-content/uploads/2023/09/pexels-blaz-erzetic-2517330-scaled-e1694756785110.jpg
ORGANIZER;CN="zukunft-Unterfairing":MAILTO:info@zukunft-unterfairing.de
END:VEVENT
BEGIN:VEVENT
DTSTART;TZID=Europe/Berlin:20240218T090000
DTEND;TZID=Europe/Berlin:20240218T090000
DTSTAMP:20260423T110624
CREATED:20240212T101332Z
LAST-MODIFIED:20240212T101332Z
UID:10001732-1708246800-1708246800@www.meinufg.de
SUMMARY:FC Unterföhring U10-2 - Putzbrunner SV U10-1
DESCRIPTION:
URL:https://www.meinufg.de/event/fc-unterfoehring-u10-2-putzbrunner-sv-u10-1/
LOCATION:Sportanlage Unterföhring\, Dammstr.\, Unterföhring
CATEGORIES:Sport
ATTACH;FMTTYPE=image/jpeg:https://www.meinufg.de/wp-content/uploads/2023/11/FCU.jpg
ORGANIZER;CN="FC Unterf%C3%B6hring 1927 e.V.":MAILTO:info@fcunterfoehring.de
END:VEVENT
BEGIN:VEVENT
DTSTART;TZID=Europe/Berlin:20240218T110000
DTEND;TZID=Europe/Berlin:20240218T110000
DTSTAMP:20260423T110624
CREATED:20240212T101537Z
LAST-MODIFIED:20240212T101537Z
UID:10001733-1708254000-1708254000@www.meinufg.de
SUMMARY:FC Unterföhring U12-2 - DJK Waldram 2
DESCRIPTION:
URL:https://www.meinufg.de/event/fc-unterfoehring-u12-2-djk-waldram-2/
LOCATION:Sportanlage Unterföhring\, Dammstr.\, Unterföhring
ATTACH;FMTTYPE=image/jpeg:https://www.meinufg.de/wp-content/uploads/2023/11/FCU.jpg
ORGANIZER;CN="FC Unterf%C3%B6hring 1927 e.V.":MAILTO:info@fcunterfoehring.de
END:VEVENT
BEGIN:VEVENT
DTSTART;TZID=Europe/Berlin:20240218T124500
DTEND;TZID=Europe/Berlin:20240218T124500
DTSTAMP:20260423T110624
CREATED:20240212T101737Z
LAST-MODIFIED:20240212T101737Z
UID:10001734-1708260300-1708260300@www.meinufg.de
SUMMARY:FC Unterföhring U13-1 - TSV Neusäß U13-1
DESCRIPTION:
URL:https://www.meinufg.de/event/fc-unterfoehring-u13-1-tsv-neusaess-u13-1/
LOCATION:Sportanlage Unterföhring\, Dammstr.\, Unterföhring
CATEGORIES:Sport
ATTACH;FMTTYPE=image/jpeg:https://www.meinufg.de/wp-content/uploads/2023/11/FCU.jpg
ORGANIZER;CN="FC Unterf%C3%B6hring 1927 e.V.":MAILTO:info@fcunterfoehring.de
END:VEVENT
BEGIN:VEVENT
DTSTART;TZID=Europe/Berlin:20240218T150000
DTEND;TZID=Europe/Berlin:20240218T150000
DTSTAMP:20260423T110624
CREATED:20240212T102002Z
LAST-MODIFIED:20240212T102059Z
UID:10001735-1708268400-1708268400@www.meinufg.de
SUMMARY:FC Unterföhring III - Glorious Bastards
DESCRIPTION:
URL:https://www.meinufg.de/event/fc-unterfoehring-iii-glorious-bastards/
LOCATION:Sportanlage Unterföhring\, Dammstr.\, Unterföhring
CATEGORIES:Sport
ATTACH;FMTTYPE=image/jpeg:https://www.meinufg.de/wp-content/uploads/2023/11/FCU.jpg
ORGANIZER;CN="FC Unterf%C3%B6hring 1927 e.V.":MAILTO:info@fcunterfoehring.de
END:VEVENT
END:VCALENDAR