BEGIN:VCALENDAR
VERSION:2.0
PRODID:-//meinUFG - ECPv6.2.3.2//NONSGML v1.0//EN
CALSCALE:GREGORIAN
METHOD:PUBLISH
X-WR-CALNAME:meinUFG
X-ORIGINAL-URL:https://www.meinufg.de
X-WR-CALDESC:Veranstaltungen für meinUFG
REFRESH-INTERVAL;VALUE=DURATION:PT1H
X-Robots-Tag:noindex
X-PUBLISHED-TTL:PT1H
BEGIN:VTIMEZONE
TZID:Europe/Berlin
BEGIN:DAYLIGHT
TZOFFSETFROM:+0100
TZOFFSETTO:+0200
TZNAME:CEST
DTSTART:20240331T010000
END:DAYLIGHT
BEGIN:STANDARD
TZOFFSETFROM:+0200
TZOFFSETTO:+0100
TZNAME:CET
DTSTART:20241027T010000
END:STANDARD
END:VTIMEZONE
BEGIN:VEVENT
DTSTART;TZID=Europe/Berlin:20240406T080000
DTEND;TZID=Europe/Berlin:20240406T130000
DTSTAMP:20260419T192532
CREATED:20231027T051848Z
LAST-MODIFIED:20231030T220154Z
UID:10000662-1712390400-1712408400@www.meinufg.de
SUMMARY:Wochenmarkt in Unterföhring
DESCRIPTION:
URL:https://www.meinufg.de/event/wochenmarkt-in-unterfoehring/2024-04-06/
LOCATION:Bürgerhaus Unterföhring\, Münchner Str. 65\, Unterföhring\, 85774
CATEGORIES:Veranstaltung
ATTACH;FMTTYPE=image/webp:https://www.meinufg.de/wp-content/uploads/2023/10/Wochenmarkt-scaled-e1698703250730.webp
ORGANIZER;CN="Gemeinde Unterf%C3%B6hring":MAILTO:info@unterfoehring.de
END:VEVENT
BEGIN:VEVENT
DTSTART;TZID=Europe/Berlin:20240406T080000
DTEND;TZID=Europe/Berlin:20240406T140000
DTSTAMP:20260419T192532
CREATED:20240307T143415Z
LAST-MODIFIED:20240307T143415Z
UID:10001784-1712390400-1712412000@www.meinufg.de
SUMMARY:Kostenloser Fahrradcheck
DESCRIPTION:
URL:https://www.meinufg.de/event/kostenloser-fahrradcheck-unterfoehring/
LOCATION:Bürgerhaus Unterföhring\, Münchner Str. 65\, Unterföhring\, 85774
CATEGORIES:Veranstaltung
ATTACH;FMTTYPE=image/webp:https://www.meinufg.de/wp-content/uploads/2024/03/Fahrrad.webp
END:VEVENT
BEGIN:VEVENT
DTSTART;VALUE=DATE:20240407
DTEND;VALUE=DATE:20240408
DTSTAMP:20260419T192532
CREATED:20240116T150754Z
LAST-MODIFIED:20240120T074240Z
UID:10001704-1712448000-1712534399@www.meinufg.de
SUMMARY:Feringer Sach – Ausstellungseröffnung "Hübsch Verpackt"
DESCRIPTION:
URL:https://www.meinufg.de/event/feringer-sach-ausstellungseroeffnung-huebsch-verpackt/
CATEGORIES:Veranstaltung
ATTACH;FMTTYPE=image/jpeg:https://www.meinufg.de/wp-content/uploads/2024/01/coming-soon.jpeg
END:VEVENT
BEGIN:VEVENT
DTSTART;TZID=Europe/Berlin:20240407T100000
DTEND;TZID=Europe/Berlin:20240407T160000
DTSTAMP:20260419T192532
CREATED:20240322T193609Z
LAST-MODIFIED:20240408T204549Z
UID:10001803-1712484000-1712505600@www.meinufg.de
SUMMARY:Alter und Veränderung
DESCRIPTION:Tag der Senioren und ihrer Familien
URL:https://www.meinufg.de/event/alter-und-veraenderung/
LOCATION:Bürgerhaus Unterföhring\, Münchner Str. 65\, Unterföhring\, 85774
CATEGORIES:Veranstaltung
ATTACH;FMTTYPE=image/jpeg:https://www.meinufg.de/wp-content/uploads/2024/03/Alter-scaled.jpg
ORGANIZER;CN="B%C3%BCrgerhaus Unterf%C3%B6hring":MAILTO:info@buergerhaus-unterfoehring.de
END:VEVENT
BEGIN:VEVENT
DTSTART;TZID=Europe/Berlin:20240410T150000
DTEND;TZID=Europe/Berlin:20240410T150000
DTSTAMP:20260419T192532
CREATED:20240303T091708Z
LAST-MODIFIED:20240303T091708Z
UID:10001770-1712761200-1712761200@www.meinufg.de
SUMMARY:Bilderbuchkino - Die kleine Hexe geht auf Reisen
DESCRIPTION:
URL:https://www.meinufg.de/event/bilderbuchkino-die-kleine-hexe-geht-auf-reisen/
LOCATION:Bürgerhaus Unterföhring\, Münchner Str. 65\, Unterföhring\, 85774
CATEGORIES:Kinder,Veranstaltung
ATTACH;FMTTYPE=image/webp:https://www.meinufg.de/wp-content/uploads/2024/03/Bibliothek.webp
ORGANIZER;CN="B%C3%BCrgerhaus Unterf%C3%B6hring":MAILTO:info@buergerhaus-unterfoehring.de
END:VEVENT
BEGIN:VEVENT
DTSTART;TZID=Europe/Berlin:20240410T190000
DTEND;TZID=Europe/Berlin:20240410T190000
DTSTAMP:20260419T192532
CREATED:20240408T204718Z
LAST-MODIFIED:20240408T204718Z
UID:10001829-1712775600-1712775600@www.meinufg.de
SUMMARY:Öffentliche Sitzung des Gemeinderates
DESCRIPTION:
URL:https://www.meinufg.de/event/oeffentliche-sitzung-des-gemeinderates-unterfoehring-2/
LOCATION:Gemeinde Unterföhring\, Münchner Str. 70\, Unterföhring\, 85774
CATEGORIES:Politik
ATTACH;FMTTYPE=image/jpeg:https://www.meinufg.de/wp-content/uploads/2023/09/pexels-luis-quintero-2774556-scaled-e1694283533442.jpg
ORGANIZER;CN="Gemeinde Unterf%C3%B6hring":MAILTO:info@unterfoehring.de
END:VEVENT
BEGIN:VEVENT
DTSTART;TZID=Europe/Berlin:20240411T193000
DTEND;TZID=Europe/Berlin:20240411T193000
DTSTAMP:20260419T192532
CREATED:20240325T182428Z
LAST-MODIFIED:20240325T182428Z
UID:10001806-1712863800-1712863800@www.meinufg.de
SUMMARY:SG Unterföhring/Bogenhaus. KF - SG Hochbrück / Plasma (KF)
DESCRIPTION:
URL:https://www.meinufg.de/event/sg-unterfoehring-bogenhaus-kf-sg-hochbrueck-plasma-kf/
LOCATION:Sportplatz\, Unterer Aschheimer Weg 5\, Unterföhring\, 85774
CATEGORIES:Sport
ATTACH;FMTTYPE=image/jpeg:https://www.meinufg.de/wp-content/uploads/2023/11/FCU.jpg
ORGANIZER;CN="FC Unterf%C3%B6hring 1927 e.V.":MAILTO:info@fcunterfoehring.de
END:VEVENT
BEGIN:VEVENT
DTSTART;TZID=Europe/Berlin:20240411T193000
DTEND;TZID=Europe/Berlin:20240411T193000
DTSTAMP:20260419T192532
CREATED:20240408T201231Z
LAST-MODIFIED:20240408T201231Z
UID:10001815-1712863800-1712863800@www.meinufg.de
SUMMARY:SG Unterföhring/Bogenhaus. KF - SG Hochbrück / Plasma (KF)
DESCRIPTION:SEN. C KL KLEINFELD 2024
URL:https://www.meinufg.de/event/sg-unterfoehring-fussbalspiel/
LOCATION:Sportplatz\, Unterer Aschheimer Weg 5\, Unterföhring\, 85774
CATEGORIES:Sport
ATTACH;FMTTYPE=image/jpeg:https://www.meinufg.de/wp-content/uploads/2023/11/FCU.jpg
ORGANIZER;CN="FC Unterf%C3%B6hring 1927 e.V.":MAILTO:info@fcunterfoehring.de
END:VEVENT
BEGIN:VEVENT
DTSTART;TZID=Europe/Berlin:20240411T200000
DTEND;TZID=Europe/Berlin:20240411T200000
DTSTAMP:20260419T192532
CREATED:20240303T093216Z
LAST-MODIFIED:20240303T093216Z
UID:10001775-1712865600-1712865600@www.meinufg.de
SUMMARY:Tölzer Knabenchor Frühjahrskonzert
DESCRIPTION:
URL:https://www.meinufg.de/event/toelzer-knabenchor-fruehjahrskonzert/
LOCATION:Bürgerhaus Unterföhring\, Münchner Str. 65\, Unterföhring\, 85774
CATEGORIES:Musik,Veranstaltung
ATTACH;FMTTYPE=image/jpeg:https://www.meinufg.de/wp-content/uploads/2023/09/pexels-cottonbro-studio-7567329-scaled-e1694589437898.jpg
ORGANIZER;CN="B%C3%BCrgerhaus Unterf%C3%B6hring":MAILTO:info@buergerhaus-unterfoehring.de
END:VEVENT
BEGIN:VEVENT
DTSTART;TZID=Europe/Berlin:20240413T080000
DTEND;TZID=Europe/Berlin:20240413T130000
DTSTAMP:20260419T192532
CREATED:20231027T051848Z
LAST-MODIFIED:20231030T220154Z
UID:10000663-1712995200-1713013200@www.meinufg.de
SUMMARY:Wochenmarkt in Unterföhring
DESCRIPTION:
URL:https://www.meinufg.de/event/wochenmarkt-in-unterfoehring/2024-04-13/
LOCATION:Bürgerhaus Unterföhring\, Münchner Str. 65\, Unterföhring\, 85774
CATEGORIES:Veranstaltung
ATTACH;FMTTYPE=image/webp:https://www.meinufg.de/wp-content/uploads/2023/10/Wochenmarkt-scaled-e1698703250730.webp
ORGANIZER;CN="Gemeinde Unterf%C3%B6hring":MAILTO:info@unterfoehring.de
END:VEVENT
BEGIN:VEVENT
DTSTART;TZID=Europe/Berlin:20240413T090000
DTEND;TZID=Europe/Berlin:20240413T090000
DTSTAMP:20260419T192532
CREATED:20240325T182611Z
LAST-MODIFIED:20240325T182611Z
UID:10001807-1712998800-1712998800@www.meinufg.de
SUMMARY:FC Unterföhring U10-3 - TSV Pliening/Landsham U10
DESCRIPTION:
URL:https://www.meinufg.de/event/fc-unterfoehring-u10-3-tsv-pliening-landsham-u10/
LOCATION:Sportanlage Unterföhring\, Dammstr.\, Unterföhring
CATEGORIES:Sport
ATTACH;FMTTYPE=image/jpeg:https://www.meinufg.de/wp-content/uploads/2023/11/FCU.jpg
ORGANIZER;CN="FC Unterf%C3%B6hring 1927 e.V.":MAILTO:info@fcunterfoehring.de
END:VEVENT
BEGIN:VEVENT
DTSTART;TZID=Europe/Berlin:20240413T090000
DTEND;TZID=Europe/Berlin:20240413T090000
DTSTAMP:20260419T192532
CREATED:20240325T182738Z
LAST-MODIFIED:20240325T182738Z
UID:10001808-1712998800-1712998800@www.meinufg.de
SUMMARY:FC Unterföhring U8-1 - SC Arcadia Messestadt U8
DESCRIPTION:
URL:https://www.meinufg.de/event/fc-unterfoehring-u8-1-sc-arcadia-messestadt-u8/
LOCATION:Sportanlage Unterföhring\, Dammstr.\, Unterföhring
CATEGORIES:Sport
ATTACH;FMTTYPE=image/jpeg:https://www.meinufg.de/wp-content/uploads/2023/11/FCU.jpg
ORGANIZER;CN="FC Unterf%C3%B6hring 1927 e.V.":MAILTO:info@fcunterfoehring.de
END:VEVENT
BEGIN:VEVENT
DTSTART;TZID=Europe/Berlin:20240413T090000
DTEND;TZID=Europe/Berlin:20240413T090000
DTSTAMP:20260419T192532
CREATED:20240408T201429Z
LAST-MODIFIED:20240408T201429Z
UID:10001816-1712998800-1712998800@www.meinufg.de
SUMMARY:FC Unterföhring U10-3 - TSV Pliening/Landsham U10
DESCRIPTION:U 10 (E-JUN.) OST SCHWALBE RR
URL:https://www.meinufg.de/event/fc-unterfoehring-u10-3-tsv-pliening-landsham-u10-2/
LOCATION:Sportanlage Unterföhring\, Dammstr.\, Unterföhring
CATEGORIES:Sport
ATTACH;FMTTYPE=image/jpeg:https://www.meinufg.de/wp-content/uploads/2023/11/FCU.jpg
ORGANIZER;CN="FC Unterf%C3%B6hring 1927 e.V.":MAILTO:info@fcunterfoehring.de
END:VEVENT
BEGIN:VEVENT
DTSTART;TZID=Europe/Berlin:20240413T090000
DTEND;TZID=Europe/Berlin:20240413T090000
DTSTAMP:20260419T192532
CREATED:20240408T201637Z
LAST-MODIFIED:20240408T201637Z
UID:10001817-1712998800-1712998800@www.meinufg.de
SUMMARY:FC Unterföhring U8-1 - SC Arcadia Messestadt U8
DESCRIPTION:U 8 (F-JUN.) OST KUH RR
URL:https://www.meinufg.de/event/fc-unterfoehring-u8-1-sc-arcadia-messestadt-u8-2/
LOCATION:Sportanlage Unterföhring\, Dammstr.\, Unterföhring
CATEGORIES:Sport
ATTACH;FMTTYPE=image/jpeg:https://www.meinufg.de/wp-content/uploads/2023/11/FCU.jpg
ORGANIZER;CN="FC Unterf%C3%B6hring 1927 e.V.":MAILTO:info@fcunterfoehring.de
END:VEVENT
BEGIN:VEVENT
DTSTART;TZID=Europe/Berlin:20240413T100000
DTEND;TZID=Europe/Berlin:20240413T100000
DTSTAMP:20260419T192532
CREATED:20240325T183024Z
LAST-MODIFIED:20240325T183024Z
UID:10001809-1713002400-1713002400@www.meinufg.de
SUMMARY:FC Unterföhring U9-2 - FC Eintracht München U9
DESCRIPTION:
URL:https://www.meinufg.de/event/fc-unterfoehring-u9-2-fc-eintracht-muenchen-u9/
LOCATION:Sportanlage Unterföhring\, Dammstr.\, Unterföhring
CATEGORIES:Sport
ATTACH;FMTTYPE=image/jpeg:https://www.meinufg.de/wp-content/uploads/2023/11/FCU.jpg
ORGANIZER;CN="FC Unterf%C3%B6hring 1927 e.V.":MAILTO:info@fcunterfoehring.de
END:VEVENT
BEGIN:VEVENT
DTSTART;TZID=Europe/Berlin:20240413T100000
DTEND;TZID=Europe/Berlin:20240413T100000
DTSTAMP:20260419T192532
CREATED:20240325T183206Z
LAST-MODIFIED:20240325T183206Z
UID:10001810-1713002400-1713002400@www.meinufg.de
SUMMARY:FC Unterföhring U10-4 - SG Pontos/Hellas U10
DESCRIPTION:
URL:https://www.meinufg.de/event/fc-unterfoehring-u10-4-sg-pontos-hellas-u10/
LOCATION:Sportplatz\, Unterer Aschheimer Weg 5\, Unterföhring\, 85774
CATEGORIES:Sport
ATTACH;FMTTYPE=image/jpeg:https://www.meinufg.de/wp-content/uploads/2023/11/FCU.jpg
ORGANIZER;CN="FC Unterf%C3%B6hring 1927 e.V.":MAILTO:info@fcunterfoehring.de
END:VEVENT
BEGIN:VEVENT
DTSTART;TZID=Europe/Berlin:20240413T100000
DTEND;TZID=Europe/Berlin:20240413T100000
DTSTAMP:20260419T192532
CREATED:20240408T201832Z
LAST-MODIFIED:20240408T201832Z
UID:10001818-1713002400-1713002400@www.meinufg.de
SUMMARY:FC Unterföhring U9-2 - FC Eintracht München U9
DESCRIPTION:U 9 (F-JUN.) NORD GECKO RR
URL:https://www.meinufg.de/event/fc-unterfoehring-u9-2-fc-eintracht-muenchen-u9-2/
LOCATION:Sportanlage Unterföhring\, Dammstr.\, Unterföhring
CATEGORIES:Sport
ATTACH;FMTTYPE=image/jpeg:https://www.meinufg.de/wp-content/uploads/2023/11/FCU.jpg
ORGANIZER;CN="FC Unterf%C3%B6hring 1927 e.V.":MAILTO:info@fcunterfoehring.de
END:VEVENT
BEGIN:VEVENT
DTSTART;TZID=Europe/Berlin:20240413T100000
DTEND;TZID=Europe/Berlin:20240413T100000
DTSTAMP:20260419T192532
CREATED:20240408T202044Z
LAST-MODIFIED:20240408T202044Z
UID:10001819-1713002400-1713002400@www.meinufg.de
SUMMARY:FC Unterföhring U10-4 - SG Pontos/Hellas U10
DESCRIPTION:FC Unterföhring Fussballspiel Unterfoehring
URL:https://www.meinufg.de/event/fc-unterfoehring-u10-4-sg-pontos-hellas-u10-2/
LOCATION:Sportplatz\, Unterer Aschheimer Weg 5\, Unterföhring\, 85774
CATEGORIES:Sport
ATTACH;FMTTYPE=image/jpeg:https://www.meinufg.de/wp-content/uploads/2023/11/FCU.jpg
ORGANIZER;CN="FC Unterf%C3%B6hring 1927 e.V.":MAILTO:info@fcunterfoehring.de
END:VEVENT
BEGIN:VEVENT
DTSTART;TZID=Europe/Berlin:20240413T110000
DTEND;TZID=Europe/Berlin:20240413T110000
DTSTAMP:20260419T192532
CREATED:20240325T183321Z
LAST-MODIFIED:20240325T183321Z
UID:10001811-1713006000-1713006000@www.meinufg.de
SUMMARY:FC Unterföhring U17 - SG Niederroth/Arnbach
DESCRIPTION:
URL:https://www.meinufg.de/event/fc-unterfoehring-u17-sg-niederroth-arnbach/
LOCATION:Sportplatz\, Unterer Aschheimer Weg 5\, Unterföhring\, 85774
CATEGORIES:Sport
ATTACH;FMTTYPE=image/jpeg:https://www.meinufg.de/wp-content/uploads/2023/11/FCU.jpg
ORGANIZER;CN="FC Unterf%C3%B6hring 1927 e.V.":MAILTO:info@fcunterfoehring.de
END:VEVENT
BEGIN:VEVENT
DTSTART;TZID=Europe/Berlin:20240413T110000
DTEND;TZID=Europe/Berlin:20240413T110000
DTSTAMP:20260419T192532
CREATED:20240325T183448Z
LAST-MODIFIED:20240325T183448Z
UID:10001812-1713006000-1713006000@www.meinufg.de
SUMMARY:FC Unterföhring U12-3 - FC Perlach 1925 München U12
DESCRIPTION:
URL:https://www.meinufg.de/event/fc-unterfoehring-u12-3-fc-perlach-1925-muenchen-u12/
LOCATION:Sportanlage Unterföhring\, Dammstr.\, Unterföhring
CATEGORIES:Sport
ATTACH;FMTTYPE=image/jpeg:https://www.meinufg.de/wp-content/uploads/2023/11/FCU.jpg
ORGANIZER;CN="FC Unterf%C3%B6hring 1927 e.V.":MAILTO:info@fcunterfoehring.de
END:VEVENT
BEGIN:VEVENT
DTSTART;TZID=Europe/Berlin:20240413T110000
DTEND;TZID=Europe/Berlin:20240413T110000
DTSTAMP:20260419T192532
CREATED:20240408T202226Z
LAST-MODIFIED:20240408T202226Z
UID:10001820-1713006000-1713006000@www.meinufg.de
SUMMARY:FC Unterföhring U17 - SG Niederroth/Arnbach
DESCRIPTION:U17 (B-JUN.) GRUPPE NORD RR
URL:https://www.meinufg.de/event/fc-unterfoehring-u17-sg-niederroth-arnbach-2/
LOCATION:Sportplatz\, Unterer Aschheimer Weg 5\, Unterföhring\, 85774
CATEGORIES:Sport
ATTACH;FMTTYPE=image/jpeg:https://www.meinufg.de/wp-content/uploads/2023/11/FCU.jpg
ORGANIZER;CN="FC Unterf%C3%B6hring 1927 e.V.":MAILTO:info@fcunterfoehring.de
END:VEVENT
BEGIN:VEVENT
DTSTART;TZID=Europe/Berlin:20240413T110000
DTEND;TZID=Europe/Berlin:20240413T110000
DTSTAMP:20260419T192532
CREATED:20240408T202354Z
LAST-MODIFIED:20240408T202515Z
UID:10001821-1713006000-1713006000@www.meinufg.de
SUMMARY:FC Unterföhring U12-3 - FC Perlach 1925 München U12
DESCRIPTION:U12 (JGL) KREISKLASSE OST 02 RR
URL:https://www.meinufg.de/event/fc-unterfoehring-u12-3-fc-perlach-1925-muenchen-u12-2/
LOCATION:Sportanlage Unterföhring\, Dammstr.\, Unterföhring
CATEGORIES:Sport
ATTACH;FMTTYPE=image/jpeg:https://www.meinufg.de/wp-content/uploads/2023/11/FCU.jpg
ORGANIZER;CN="FC Unterf%C3%B6hring 1927 e.V.":MAILTO:info@fcunterfoehring.de
END:VEVENT
BEGIN:VEVENT
DTSTART;TZID=Europe/Berlin:20240413T130000
DTEND;TZID=Europe/Berlin:20240413T130000
DTSTAMP:20260419T192532
CREATED:20240325T183623Z
LAST-MODIFIED:20240325T183623Z
UID:10001813-1713013200-1713013200@www.meinufg.de
SUMMARY:FC Unterföhring U13-2 - SG Aschheim/Dornach U13 2
DESCRIPTION:
URL:https://www.meinufg.de/event/fc-unterfoehring-u13-2-sg-aschheim-dornach-u13-2/
LOCATION:Sportplatz\, Unterer Aschheimer Weg 5\, Unterföhring\, 85774
CATEGORIES:Sport
ATTACH;FMTTYPE=image/jpeg:https://www.meinufg.de/wp-content/uploads/2023/11/FCU.jpg
ORGANIZER;CN="FC Unterf%C3%B6hring 1927 e.V.":MAILTO:info@fcunterfoehring.de
END:VEVENT
BEGIN:VEVENT
DTSTART;TZID=Europe/Berlin:20240413T130000
DTEND;TZID=Europe/Berlin:20240413T130000
DTSTAMP:20260419T192532
CREATED:20240325T183735Z
LAST-MODIFIED:20240325T183735Z
UID:10001814-1713013200-1713013200@www.meinufg.de
SUMMARY:FC Unterföhring U13-1 - FC Wacker München U13-2
DESCRIPTION:
URL:https://www.meinufg.de/event/fc-unterfoehring-u13-1-fc-wacker-muenchen-u13-2/
LOCATION:Sportanlage Unterföhring\, Dammstr.\, Unterföhring
CATEGORIES:Sport
ATTACH;FMTTYPE=image/jpeg:https://www.meinufg.de/wp-content/uploads/2023/11/FCU.jpg
ORGANIZER;CN="FC Unterf%C3%B6hring 1927 e.V.":MAILTO:info@fcunterfoehring.de
END:VEVENT
BEGIN:VEVENT
DTSTART;TZID=Europe/Berlin:20240413T130000
DTEND;TZID=Europe/Berlin:20240413T130000
DTSTAMP:20260419T192532
CREATED:20240408T202707Z
LAST-MODIFIED:20240408T202707Z
UID:10001822-1713013200-1713013200@www.meinufg.de
SUMMARY:FC Unterföhring U13-2 - SG Aschheim/Dornach U13 2
DESCRIPTION:U13 (JGL) GRUPPE OST 01
URL:https://www.meinufg.de/event/fc-unterfoehring-u13-2-sg-aschheim-dornach-u13-2-2/
LOCATION:Sportplatz\, Unterer Aschheimer Weg 5\, Unterföhring\, 85774
CATEGORIES:Sport
ATTACH;FMTTYPE=image/jpeg:https://www.meinufg.de/wp-content/uploads/2023/11/FCU.jpg
ORGANIZER;CN="FC Unterf%C3%B6hring 1927 e.V.":MAILTO:info@fcunterfoehring.de
END:VEVENT
BEGIN:VEVENT
DTSTART;TZID=Europe/Berlin:20240413T130000
DTEND;TZID=Europe/Berlin:20240413T130000
DTSTAMP:20260419T192532
CREATED:20240408T202857Z
LAST-MODIFIED:20240408T202857Z
UID:10001823-1713013200-1713013200@www.meinufg.de
SUMMARY:FC Unterföhring U13-1 - FC Wacker München U13-2
DESCRIPTION:U13 (JGL) KREISLIGA 2
URL:https://www.meinufg.de/event/fc-unterfoehring-u13-1-fc-wacker-muenchen-u13-2-2/
LOCATION:Sportanlage Unterföhring\, Dammstr.\, Unterföhring
CATEGORIES:Sport
ATTACH;FMTTYPE=image/jpeg:https://www.meinufg.de/wp-content/uploads/2023/11/FCU.jpg
ORGANIZER;CN="FC Unterf%C3%B6hring 1927 e.V.":MAILTO:info@fcunterfoehring.de
END:VEVENT
BEGIN:VEVENT
DTSTART;TZID=Europe/Berlin:20240413T140000
DTEND;TZID=Europe/Berlin:20240413T140000
DTSTAMP:20260419T192532
CREATED:20240408T203022Z
LAST-MODIFIED:20240408T203022Z
UID:10001824-1713016800-1713016800@www.meinufg.de
SUMMARY:FC Unterföhring - FC Spfr. Schwaig
DESCRIPTION:LANDESLIGA SÜDOST
URL:https://www.meinufg.de/event/fc-unterfoehring-fc-spfr-schwaig/
CATEGORIES:Sport
ATTACH;FMTTYPE=image/jpeg:https://www.meinufg.de/wp-content/uploads/2023/11/FCU.jpg
ORGANIZER;CN="FC Unterf%C3%B6hring 1927 e.V.":MAILTO:info@fcunterfoehring.de
END:VEVENT
BEGIN:VEVENT
DTSTART;TZID=Europe/Berlin:20240413T140000
DTEND;TZID=Europe/Berlin:20240413T160000
DTSTAMP:20260419T192532
CREATED:20240212T100449Z
LAST-MODIFIED:20240212T100449Z
UID:10001729-1713016800-1713024000@www.meinufg.de
SUMMARY:Rugby Club Unterföhring – Heidelberger TV
DESCRIPTION:
URL:https://www.meinufg.de/event/rugby-club-unterfoehring-heidelberger-tv/
LOCATION:Sportplatz\, Unterer Aschheimer Weg 5\, Unterföhring\, 85774
CATEGORIES:Sport
ATTACH;FMTTYPE=image/jpeg:https://www.meinufg.de/wp-content/uploads/2023/09/Rugby-scaled-e1694291063339.jpg
ORGANIZER;CN="Rugby Club Unterf%C3%B6hring":MAILTO:kontakt@rugby-unterfoehring.de
END:VEVENT
BEGIN:VEVENT
DTSTART;TZID=Europe/Berlin:20240413T164500
DTEND;TZID=Europe/Berlin:20240413T164500
DTSTAMP:20260419T192532
CREATED:20240408T203213Z
LAST-MODIFIED:20240408T203213Z
UID:10001825-1713026700-1713026700@www.meinufg.de
SUMMARY:FC Unterföhring II - FSV Harthof Mü.
DESCRIPTION:112 KREISKLASSE 2
URL:https://www.meinufg.de/event/fc-unterfoehring-ii-fsv-harthof-mue/
LOCATION:Sportanlage Unterföhring\, Dammstr.\, Unterföhring
CATEGORIES:Sport
ATTACH;FMTTYPE=image/jpeg:https://www.meinufg.de/wp-content/uploads/2023/11/FCU.jpg
ORGANIZER;CN="FC Unterf%C3%B6hring 1927 e.V.":MAILTO:info@fcunterfoehring.de
END:VEVENT
BEGIN:VEVENT
DTSTART;TZID=Europe/Berlin:20240414T090000
DTEND;TZID=Europe/Berlin:20240414T090000
DTSTAMP:20260419T192532
CREATED:20240408T203353Z
LAST-MODIFIED:20240408T203353Z
UID:10001826-1713085200-1713085200@www.meinufg.de
SUMMARY:FC Unterföhring U9-1 - FC Schwabing U9-1
DESCRIPTION:U 9 (F-JUN.) NORD PULPO RR
URL:https://www.meinufg.de/event/fc-unterfoehring-u9-1-fc-schwabing-u9-1/
LOCATION:Sportanlage Unterföhring\, Dammstr.\, Unterföhring
CATEGORIES:Sport
ATTACH;FMTTYPE=image/jpeg:https://www.meinufg.de/wp-content/uploads/2023/11/FCU.jpg
ORGANIZER;CN="FC Unterf%C3%B6hring 1927 e.V.":MAILTO:info@fcunterfoehring.de
END:VEVENT
END:VCALENDAR