BEGIN:VCALENDAR
VERSION:2.0
PRODID:-//meinUFG - ECPv6.2.3.2//NONSGML v1.0//EN
CALSCALE:GREGORIAN
METHOD:PUBLISH
X-WR-CALNAME:meinUFG
X-ORIGINAL-URL:https://www.meinufg.de
X-WR-CALDESC:Veranstaltungen für meinUFG
REFRESH-INTERVAL;VALUE=DURATION:PT1H
X-Robots-Tag:noindex
X-PUBLISHED-TTL:PT1H
BEGIN:VTIMEZONE
TZID:Europe/Berlin
BEGIN:DAYLIGHT
TZOFFSETFROM:+0100
TZOFFSETTO:+0200
TZNAME:CEST
DTSTART:20240331T010000
END:DAYLIGHT
BEGIN:STANDARD
TZOFFSETFROM:+0200
TZOFFSETTO:+0100
TZNAME:CET
DTSTART:20241027T010000
END:STANDARD
END:VTIMEZONE
BEGIN:VEVENT
DTSTART;TZID=Europe/Berlin:20240501T090000
DTEND;TZID=Europe/Berlin:20240501T090000
DTSTAMP:20260419T180155
CREATED:20240423T195117Z
LAST-MODIFIED:20240423T195117Z
UID:10001850-1714554000-1714554000@www.meinufg.de
SUMMARY:FC Unterföhring U10-3 - FC Stern München U10-1
DESCRIPTION:U 10 (E-JUN.) OST SCHWALBE RR
URL:https://www.meinufg.de/event/fc-unterfoehring-u10-3-fc-stern-muenchen-u10-1/
LOCATION:Sportanlage Unterföhring\, Dammstr.\, Unterföhring
CATEGORIES:Sport
ATTACH;FMTTYPE=image/jpeg:https://www.meinufg.de/wp-content/uploads/2023/11/FCU.jpg
ORGANIZER;CN="FC Unterf%C3%B6hring 1927 e.V.":MAILTO:info@fcunterfoehring.de
END:VEVENT
BEGIN:VEVENT
DTSTART;TZID=Europe/Berlin:20240501T093000
DTEND;TZID=Europe/Berlin:20240501T093000
DTSTAMP:20260419T180155
CREATED:20240429T191302Z
LAST-MODIFIED:20240429T191302Z
UID:10001851-1714555800-1714555800@www.meinufg.de
SUMMARY:FC Unterföhring U10-1 - FC Ismaning U10
DESCRIPTION:U 10 (E-JUN.) OST PULPO RR
URL:https://www.meinufg.de/event/fc-unterfoehring-u10-1-fc-ismaning-u10/
LOCATION:Sportanlage Unterföhring\, Dammstr.\, Unterföhring
CATEGORIES:Sport
ATTACH;FMTTYPE=image/jpeg:https://www.meinufg.de/wp-content/uploads/2023/11/FCU.jpg
ORGANIZER;CN="FC Unterf%C3%B6hring 1927 e.V.":MAILTO:info@fcunterfoehring.de
END:VEVENT
BEGIN:VEVENT
DTSTART;TZID=Europe/Berlin:20240501T110000
DTEND;TZID=Europe/Berlin:20240501T110000
DTSTAMP:20260419T180155
CREATED:20240429T191457Z
LAST-MODIFIED:20240429T191457Z
UID:10001852-1714561200-1714561200@www.meinufg.de
SUMMARY:FC Unterföhring U10 - FC Schwabing U11
DESCRIPTION:U 11 (E-JUN.) OST PULPO RR
URL:https://www.meinufg.de/event/fc-unterfoehring-u10-fc-schwabing-u11/
LOCATION:Sportanlage Unterföhring\, Dammstr.\, Unterföhring
CATEGORIES:Sport
ATTACH;FMTTYPE=image/jpeg:https://www.meinufg.de/wp-content/uploads/2023/11/FCU.jpg
ORGANIZER;CN="FC Unterf%C3%B6hring 1927 e.V.":MAILTO:info@fcunterfoehring.de
END:VEVENT
BEGIN:VEVENT
DTSTART;TZID=Europe/Berlin:20240501T110000
DTEND;TZID=Europe/Berlin:20240501T110000
DTSTAMP:20260419T180155
CREATED:20240429T191619Z
LAST-MODIFIED:20240429T191619Z
UID:10001853-1714561200-1714561200@www.meinufg.de
SUMMARY:FC Unterföhring U11-2 - TSV Eintracht Karlsfeld U11-2
DESCRIPTION:U 11 (E-JUN.) NORD IGEL RR
URL:https://www.meinufg.de/event/fc-unterfoehring-u11-2-tsv-eintracht-karlsfeld-u11-2/
LOCATION:Sportanlage Unterföhring\, Dammstr.\, Unterföhring
CATEGORIES:Sport
ATTACH;FMTTYPE=image/jpeg:https://www.meinufg.de/wp-content/uploads/2023/11/FCU.jpg
ORGANIZER;CN="FC Unterf%C3%B6hring 1927 e.V.":MAILTO:info@fcunterfoehring.de
END:VEVENT
BEGIN:VEVENT
DTSTART;TZID=Europe/Berlin:20240501T120000
DTEND;TZID=Europe/Berlin:20240501T120000
DTSTAMP:20260419T180155
CREATED:20240429T194721Z
LAST-MODIFIED:20240429T194721Z
UID:10001862-1714564800-1714564800@www.meinufg.de
SUMMARY:Maifeier
DESCRIPTION:
URL:https://www.meinufg.de/event/maifeier/
LOCATION:Bürgerhaus Unterföhring\, Münchner Str. 65\, Unterföhring\, 85774
CATEGORIES:Veranstaltung
ATTACH;FMTTYPE=image/jpeg:https://www.meinufg.de/wp-content/uploads/2023/06/pexels-ruca-souza-1049690-scaled-e1694283419828.jpg
END:VEVENT
BEGIN:VEVENT
DTSTART;TZID=Europe/Berlin:20240503T193000
DTEND;TZID=Europe/Berlin:20240503T193000
DTSTAMP:20260419T180155
CREATED:20240429T191907Z
LAST-MODIFIED:20240429T191907Z
UID:10001855-1714764600-1714764600@www.meinufg.de
SUMMARY:FC Unterföhring - SV Bruckmühl
DESCRIPTION:LANDESLIGA SÜDOST
URL:https://www.meinufg.de/event/fc-unterfoehring-sv-bruckmuehl/
LOCATION:Sportanlage Unterföhring\, Dammstr.\, Unterföhring
CATEGORIES:Sport
ATTACH;FMTTYPE=image/jpeg:https://www.meinufg.de/wp-content/uploads/2023/11/FCU.jpg
ORGANIZER;CN="FC Unterf%C3%B6hring 1927 e.V.":MAILTO:info@fcunterfoehring.de
END:VEVENT
BEGIN:VEVENT
DTSTART;TZID=Europe/Berlin:20240504T080000
DTEND;TZID=Europe/Berlin:20240504T130000
DTSTAMP:20260419T180155
CREATED:20231027T051848Z
LAST-MODIFIED:20231030T220154Z
UID:10000666-1714809600-1714827600@www.meinufg.de
SUMMARY:Wochenmarkt in Unterföhring
DESCRIPTION:
URL:https://www.meinufg.de/event/wochenmarkt-in-unterfoehring/2024-05-04/
LOCATION:Bürgerhaus Unterföhring\, Münchner Str. 65\, Unterföhring\, 85774
CATEGORIES:Veranstaltung
ATTACH;FMTTYPE=image/webp:https://www.meinufg.de/wp-content/uploads/2023/10/Wochenmarkt-scaled-e1698703250730.webp
ORGANIZER;CN="Gemeinde Unterf%C3%B6hring":MAILTO:info@unterfoehring.de
END:VEVENT
BEGIN:VEVENT
DTSTART;TZID=Europe/Berlin:20240504T090000
DTEND;TZID=Europe/Berlin:20240504T090000
DTSTAMP:20260419T180155
CREATED:20240429T192038Z
LAST-MODIFIED:20240429T192038Z
UID:10001856-1714813200-1714813200@www.meinufg.de
SUMMARY:FC Unterföhring U8-1 - FC Sportfreunde U7-1
DESCRIPTION:U 8 (F-JUN.) OST KUH RR
URL:https://www.meinufg.de/event/fc-unterfoehring-u8-1-fc-sportfreunde-u7-1/
LOCATION:Sportanlage Unterföhring\, Dammstr.\, Unterföhring
CATEGORIES:Sport
ATTACH;FMTTYPE=image/jpeg:https://www.meinufg.de/wp-content/uploads/2023/11/FCU.jpg
ORGANIZER;CN="FC Unterf%C3%B6hring 1927 e.V.":MAILTO:info@fcunterfoehring.de
END:VEVENT
BEGIN:VEVENT
DTSTART;TZID=Europe/Berlin:20240504T093000
DTEND;TZID=Europe/Berlin:20240504T093000
DTSTAMP:20260419T180155
CREATED:20240421T180249Z
LAST-MODIFIED:20240421T180249Z
UID:10001834-1714815000-1714815000@www.meinufg.de
SUMMARY:Faszination Weltraum am Gymnasium Unterföhring
DESCRIPTION:Klicken Sie auf den unteren Button\, um den Inhalt von www.dphv.de zu laden. \nInhalt laden
URL:https://www.meinufg.de/event/faszination-weltraum-am-gymnasium-unterfoehring/
CATEGORIES:Veranstaltung
ATTACH;FMTTYPE=image/webp:https://www.meinufg.de/wp-content/uploads/2024/04/Weltraum.webp
END:VEVENT
BEGIN:VEVENT
DTSTART;TZID=Europe/Berlin:20240504T093000
DTEND;TZID=Europe/Berlin:20240504T093000
DTSTAMP:20260419T180155
CREATED:20240429T192218Z
LAST-MODIFIED:20240429T192218Z
UID:10001857-1714815000-1714815000@www.meinufg.de
SUMMARY:FC Unterföhring U8-3 - SV Am Hart U7-1
DESCRIPTION:U 8 (F-JUN.) NORD BIBER RR
URL:https://www.meinufg.de/event/fc-unterfoehring-u8-3-sv-am-hart-u7-1/
LOCATION:Sportanlage Unterföhring\, Dammstr.\, Unterföhring
CATEGORIES:Sport
ATTACH;FMTTYPE=image/jpeg:https://www.meinufg.de/wp-content/uploads/2023/11/FCU.jpg
ORGANIZER;CN="FC Unterf%C3%B6hring 1927 e.V.":MAILTO:info@fcunterfoehring.de
END:VEVENT
BEGIN:VEVENT
DTSTART;TZID=Europe/Berlin:20240504T093000
DTEND;TZID=Europe/Berlin:20240504T093000
DTSTAMP:20260419T180155
CREATED:20240429T192435Z
LAST-MODIFIED:20240429T192435Z
UID:10001858-1714815000-1714815000@www.meinufg.de
SUMMARY:FC Unterföhring U10-1 - SV Heimstetten U10
DESCRIPTION:U 10 (E-JUN.) OST PULPO RR
URL:https://www.meinufg.de/event/fc-unterfoehring-u10-1-sv-heimstetten-u10/
LOCATION:Sportanlage Unterföhring\, Dammstr.\, Unterföhring
CATEGORIES:Sport
ATTACH;FMTTYPE=image/jpeg:https://www.meinufg.de/wp-content/uploads/2023/11/FCU.jpg
ORGANIZER;CN="FC Unterf%C3%B6hring 1927 e.V.":MAILTO:info@fcunterfoehring.de
END:VEVENT
BEGIN:VEVENT
DTSTART;TZID=Europe/Berlin:20240504T100000
DTEND;TZID=Europe/Berlin:20240504T100000
DTSTAMP:20260419T180155
CREATED:20240429T192549Z
LAST-MODIFIED:20240429T192549Z
UID:10001859-1714816800-1714816800@www.meinufg.de
SUMMARY:FC Unterföhring U10-4 - FC Rot-Weiß Oberföhring U10-1
DESCRIPTION:U 10 (E-JUN.) OST UHU RR
URL:https://www.meinufg.de/event/fc-unterfoehring-u10-4-fc-rot-weiss-oberfoehring-u10-1/
LOCATION:Sportplatz\, Unterer Aschheimer Weg 5\, Unterföhring\, 85774
CATEGORIES:Sport
ATTACH;FMTTYPE=image/jpeg:https://www.meinufg.de/wp-content/uploads/2023/11/FCU.jpg
ORGANIZER;CN="FC Unterf%C3%B6hring 1927 e.V.":MAILTO:info@fcunterfoehring.de
END:VEVENT
BEGIN:VEVENT
DTSTART;TZID=Europe/Berlin:20240504T100000
DTEND;TZID=Europe/Berlin:20240504T140000
DTSTAMP:20260419T180155
CREATED:20240413T051034Z
LAST-MODIFIED:20240413T051658Z
UID:10001830-1714816800-1714831200@www.meinufg.de
SUMMARY:AWO - Hortflohmarkt 2024
DESCRIPTION:  \n  \n 
URL:https://www.meinufg.de/event/awo-hortflohmarkt-2024-unterfoehring/
CATEGORIES:Kinder,Veranstaltung
ATTACH;FMTTYPE=image/webp:https://www.meinufg.de/wp-content/uploads/2024/04/Plakat-Flohmarkt_2024-05-04-scaled.webp
END:VEVENT
BEGIN:VEVENT
DTSTART;TZID=Europe/Berlin:20240504T110000
DTEND;TZID=Europe/Berlin:20240504T110000
DTSTAMP:20260419T180155
CREATED:20240429T192700Z
LAST-MODIFIED:20240429T192700Z
UID:10001860-1714820400-1714820400@www.meinufg.de
SUMMARY:FC Unterföhring U12-2 - SG Glonn/Bruck/Moosach/Oberpframmern U12
DESCRIPTION:U12 (JGL) KREISKLASSE OST 01 RR
URL:https://www.meinufg.de/event/fc-unterfoehring-u12-2-sg-glonn-bruck-moosach-oberpframmern-u12/
LOCATION:Sportanlage Unterföhring\, Dammstr.\, Unterföhring
CATEGORIES:Sport
ATTACH;FMTTYPE=image/jpeg:https://www.meinufg.de/wp-content/uploads/2023/11/FCU.jpg
ORGANIZER;CN="FC Unterf%C3%B6hring 1927 e.V.":MAILTO:info@fcunterfoehring.de
END:VEVENT
BEGIN:VEVENT
DTSTART;TZID=Europe/Berlin:20240504T120000
DTEND;TZID=Europe/Berlin:20240504T170000
DTSTAMP:20260419T180155
CREATED:20240423T191614Z
LAST-MODIFIED:20240423T191705Z
UID:10001836-1714824000-1714842000@www.meinufg.de
SUMMARY:Feuerwehr Unterföhring - Tag der offenen Tür
DESCRIPTION:
URL:https://www.meinufg.de/event/feuerwehr-unterfoehring-tag-der-offenen-tuer/
CATEGORIES:Veranstaltung
ATTACH;FMTTYPE=image/webp:https://www.meinufg.de/wp-content/uploads/2024/04/Feuerwehr.webp
END:VEVENT
BEGIN:VEVENT
DTSTART;TZID=Europe/Berlin:20240506T193000
DTEND;TZID=Europe/Berlin:20240506T193000
DTSTAMP:20260419T180155
CREATED:20240505T195742Z
LAST-MODIFIED:20240505T195742Z
UID:10001869-1715023800-1715023800@www.meinufg.de
SUMMARY:CSU - Einladung zum kommunalpolitischen Stammtisch
DESCRIPTION:Restaurant Bavariano
URL:https://www.meinufg.de/event/csu-einladung-zum-kommunalpolitischen-stammtisch/
CATEGORIES:Politik,Veranstaltung
ATTACH;FMTTYPE=image/jpeg:https://www.meinufg.de/wp-content/uploads/2023/09/pexels-luis-quintero-2774556-scaled-e1694283533442.jpg
END:VEVENT
BEGIN:VEVENT
DTSTART;TZID=Europe/Berlin:20240508T150000
DTEND;TZID=Europe/Berlin:20240508T150000
DTSTAMP:20260419T180155
CREATED:20240303T091849Z
LAST-MODIFIED:20240303T091849Z
UID:10001771-1715180400-1715180400@www.meinufg.de
SUMMARY:Bilderbuchkino - Dr. Brumm und der Megasaurus
DESCRIPTION:
URL:https://www.meinufg.de/event/bilderbuchkino-dr-brumm-und-der-megasaurus/
LOCATION:Bürgerhaus Unterföhring\, Münchner Str. 65\, Unterföhring\, 85774
CATEGORIES:Kinder,Veranstaltung
ATTACH;FMTTYPE=image/webp:https://www.meinufg.de/wp-content/uploads/2024/03/Bibliothek.webp
ORGANIZER;CN="B%C3%BCrgerhaus Unterf%C3%B6hring":MAILTO:info@buergerhaus-unterfoehring.de
END:VEVENT
BEGIN:VEVENT
DTSTART;TZID=Europe/Berlin:20240508T180000
DTEND;TZID=Europe/Berlin:20240508T180000
DTSTAMP:20260419T180155
CREATED:20240505T200335Z
LAST-MODIFIED:20240505T200335Z
UID:10001870-1715191200-1715191200@www.meinufg.de
SUMMARY:FC Unterföhring U10-3 - FC Stern München U10-1
DESCRIPTION:U 10 (E-JUN.) OST SCHWALBE RR
URL:https://www.meinufg.de/event/fc-unterfoehring-u10-3-fc-stern-muenchen-u10-1-2/
LOCATION:Sportanlage Unterföhring\, Dammstr.\, Unterföhring
CATEGORIES:Sport
ATTACH;FMTTYPE=image/jpeg:https://www.meinufg.de/wp-content/uploads/2023/11/FCU.jpg
ORGANIZER;CN="FC Unterf%C3%B6hring 1927 e.V.":MAILTO:info@fcunterfoehring.de
END:VEVENT
BEGIN:VEVENT
DTSTART;TZID=Europe/Berlin:20240508T190000
DTEND;TZID=Europe/Berlin:20240508T190000
DTSTAMP:20260419T180155
CREATED:20240505T194040Z
LAST-MODIFIED:20240505T194040Z
UID:10001863-1715194800-1715194800@www.meinufg.de
SUMMARY:Öffentliche Sitzung des Gemeinderates
DESCRIPTION:
URL:https://www.meinufg.de/event/oeffentliche-sitzung-des-gemeinderates-2/
LOCATION:Gemeinde Unterföhring\, Münchner Str. 70\, Unterföhring\, 85774
CATEGORIES:Politik,Veranstaltung
ATTACH;FMTTYPE=image/jpeg:https://www.meinufg.de/wp-content/uploads/2023/09/pexels-luis-quintero-2774556-scaled-e1694283533442.jpg
ORGANIZER;CN="Gemeinde Unterf%C3%B6hring":MAILTO:info@unterfoehring.de
END:VEVENT
BEGIN:VEVENT
DTSTART;TZID=Europe/Berlin:20240508T190000
DTEND;TZID=Europe/Berlin:20240508T190000
DTSTAMP:20260419T180155
CREATED:20240505T195425Z
LAST-MODIFIED:20240505T195603Z
UID:10001868-1715194800-1715194800@www.meinufg.de
SUMMARY:Einladung zum PWU-Tref
DESCRIPTION:Restaurant Il Diamante
URL:https://www.meinufg.de/event/einladung-zum-pwu-tref/
CATEGORIES:Politik,Veranstaltung
ATTACH;FMTTYPE=image/jpeg:https://www.meinufg.de/wp-content/uploads/2023/09/pexels-luis-quintero-2774556-scaled-e1694283533442.jpg
END:VEVENT
BEGIN:VEVENT
DTSTART;TZID=Europe/Berlin:20240511T080000
DTEND;TZID=Europe/Berlin:20240511T130000
DTSTAMP:20260419T180155
CREATED:20231027T051848Z
LAST-MODIFIED:20231030T220154Z
UID:10000667-1715414400-1715432400@www.meinufg.de
SUMMARY:Wochenmarkt in Unterföhring
DESCRIPTION:
URL:https://www.meinufg.de/event/wochenmarkt-in-unterfoehring/2024-05-11/
LOCATION:Bürgerhaus Unterföhring\, Münchner Str. 65\, Unterföhring\, 85774
CATEGORIES:Veranstaltung
ATTACH;FMTTYPE=image/webp:https://www.meinufg.de/wp-content/uploads/2023/10/Wochenmarkt-scaled-e1698703250730.webp
ORGANIZER;CN="Gemeinde Unterf%C3%B6hring":MAILTO:info@unterfoehring.de
END:VEVENT
BEGIN:VEVENT
DTSTART;TZID=Europe/Berlin:20240511T090000
DTEND;TZID=Europe/Berlin:20240511T090000
DTSTAMP:20260419T180155
CREATED:20240505T200713Z
LAST-MODIFIED:20240505T200713Z
UID:10001871-1715418000-1715418000@www.meinufg.de
SUMMARY:FC Unterföhring U10 - Fussball-Talente Freiham U11
DESCRIPTION:U 10 (E-JUN.) OST SCHWALBE RR
URL:https://www.meinufg.de/event/fc-unterfoehring-u10-fussball-talente-freiham-u11/
LOCATION:Sportanlage Unterföhring\, Dammstr.\, Unterföhring
CATEGORIES:Sport
ATTACH;FMTTYPE=image/jpeg:https://www.meinufg.de/wp-content/uploads/2023/11/FCU.jpg
ORGANIZER;CN="FC Unterf%C3%B6hring 1927 e.V.":MAILTO:info@fcunterfoehring.de
END:VEVENT
BEGIN:VEVENT
DTSTART;TZID=Europe/Berlin:20240511T150000
DTEND;TZID=Europe/Berlin:20240511T173000
DTSTAMP:20260419T180155
CREATED:20240505T194421Z
LAST-MODIFIED:20240505T194421Z
UID:10001864-1715439600-1715448600@www.meinufg.de
SUMMARY:Unterfairepair-Café
DESCRIPTION:
URL:https://www.meinufg.de/event/unterfairepair-cafe-unterfoehring-2/
LOCATION:Volkshochschule\, Am Bahnhof 13\, Unterföhring\, 85774
CATEGORIES:Veranstaltung
ATTACH;FMTTYPE=image/jpeg:https://www.meinufg.de/wp-content/uploads/2023/09/pexels-blaz-erzetic-2517330-scaled-e1694756785110.jpg
ORGANIZER;CN="zukunft-Unterfairing":MAILTO:info@zukunft-unterfairing.de
END:VEVENT
BEGIN:VEVENT
DTSTART;TZID=Europe/Berlin:20240512T170000
DTEND;TZID=Europe/Berlin:20240512T170000
DTSTAMP:20260419T180155
CREATED:20240505T195128Z
LAST-MODIFIED:20240505T202203Z
UID:10001867-1715533200-1715533200@www.meinufg.de
SUMMARY:Blaskapelle Unterföhring - Muttertagsserenade
DESCRIPTION:
URL:https://www.meinufg.de/event/einladung-zur-muttertagsserenade-unterfoehring/
LOCATION:Bürgerhaus Unterföhring\, Münchner Str. 65\, Unterföhring\, 85774
CATEGORIES:Musik,Veranstaltung
ATTACH;FMTTYPE=image/webp:https://www.meinufg.de/wp-content/uploads/2024/05/pexels-brett-sayles-2221318-e1714940403787.webp
END:VEVENT
BEGIN:VEVENT
DTSTART;TZID=Europe/Berlin:20240512T200000
DTEND;TZID=Europe/Berlin:20240512T200000
DTSTAMP:20260419T180155
CREATED:20240325T181644Z
LAST-MODIFIED:20240429T194853Z
UID:10001804-1715544000-1715544000@www.meinufg.de
SUMMARY:The Hot Stuff Jazzband am S-Banhof Unterföhring
DESCRIPTION:The Hot Stuff
URL:https://www.meinufg.de/event/jazz-am-s-banhof-unterfoehring/
LOCATION:Sbahn Unterföhring
CATEGORIES:Musik,Veranstaltung
ATTACH;FMTTYPE=image/jpeg:https://www.meinufg.de/wp-content/uploads/2023/06/pexels-ruca-souza-1049690-scaled-e1694283419828.jpg
END:VEVENT
BEGIN:VEVENT
DTSTART;TZID=Europe/Berlin:20240516T140000
DTEND;TZID=Europe/Berlin:20240516T183000
DTSTAMP:20260419T180155
CREATED:20240511T082542Z
LAST-MODIFIED:20240511T082713Z
UID:10001874-1715868000-1715884200@www.meinufg.de
SUMMARY:Tagwerk BIO Metzgerei
DESCRIPTION:an der Südseite der Banhofshalle
URL:https://www.meinufg.de/event/tagwerk-bio-metzgerei-unterfoehring/
ATTACH;FMTTYPE=image/webp:https://www.meinufg.de/wp-content/uploads/2024/05/Metzger.webp
END:VEVENT
BEGIN:VEVENT
DTSTART;TZID=Europe/Berlin:20240518T080000
DTEND;TZID=Europe/Berlin:20240518T130000
DTSTAMP:20260419T180155
CREATED:20231027T051848Z
LAST-MODIFIED:20231030T220154Z
UID:10000668-1716019200-1716037200@www.meinufg.de
SUMMARY:Wochenmarkt in Unterföhring
DESCRIPTION:
URL:https://www.meinufg.de/event/wochenmarkt-in-unterfoehring/2024-05-18/
LOCATION:Bürgerhaus Unterföhring\, Münchner Str. 65\, Unterföhring\, 85774
CATEGORIES:Veranstaltung
ATTACH;FMTTYPE=image/webp:https://www.meinufg.de/wp-content/uploads/2023/10/Wochenmarkt-scaled-e1698703250730.webp
ORGANIZER;CN="Gemeinde Unterf%C3%B6hring":MAILTO:info@unterfoehring.de
END:VEVENT
BEGIN:VEVENT
DTSTART;TZID=Europe/Berlin:20240518T100000
DTEND;TZID=Europe/Berlin:20240518T100000
DTSTAMP:20260419T180155
CREATED:20240518T063326Z
LAST-MODIFIED:20240518T063326Z
UID:10001875-1716026400-1716026400@www.meinufg.de
SUMMARY:FC Unterföhring U9-1 - SV Helios-Daglfing U9/1
DESCRIPTION:FS/FJ/K-FS/M/1
URL:https://www.meinufg.de/event/fc-unterfoehring-u9-1-sv-helios-daglfing-u9-1/
LOCATION:Sportanlage Unterföhring\, Dammstr.\, Unterföhring
CATEGORIES:Sport
ATTACH;FMTTYPE=image/jpeg:https://www.meinufg.de/wp-content/uploads/2023/11/FCU.jpg
ORGANIZER;CN="FC Unterf%C3%B6hring 1927 e.V.":MAILTO:info@fcunterfoehring.de
END:VEVENT
BEGIN:VEVENT
DTSTART;TZID=Europe/Berlin:20240518T140000
DTEND;TZID=Europe/Berlin:20240518T140000
DTSTAMP:20260419T180155
CREATED:20240518T063453Z
LAST-MODIFIED:20240518T063453Z
UID:10001876-1716040800-1716040800@www.meinufg.de
SUMMARY:FC Unterföhring - TSV Ampfing
DESCRIPTION:LANDESLIGA SÜDOST
URL:https://www.meinufg.de/event/fc-unterfoehring-tsv-ampfing/
LOCATION:Sportanlage Unterföhring\, Dammstr.\, Unterföhring
CATEGORIES:Sport
ATTACH;FMTTYPE=image/jpeg:https://www.meinufg.de/wp-content/uploads/2023/11/FCU.jpg
ORGANIZER;CN="FC Unterf%C3%B6hring 1927 e.V.":MAILTO:info@fcunterfoehring.de
END:VEVENT
BEGIN:VEVENT
DTSTART;TZID=Europe/Berlin:20240525T080000
DTEND;TZID=Europe/Berlin:20240525T130000
DTSTAMP:20260419T180155
CREATED:20231027T051848Z
LAST-MODIFIED:20231030T220154Z
UID:10000669-1716624000-1716642000@www.meinufg.de
SUMMARY:Wochenmarkt in Unterföhring
DESCRIPTION:
URL:https://www.meinufg.de/event/wochenmarkt-in-unterfoehring/2024-05-25/
LOCATION:Bürgerhaus Unterföhring\, Münchner Str. 65\, Unterföhring\, 85774
CATEGORIES:Veranstaltung
ATTACH;FMTTYPE=image/webp:https://www.meinufg.de/wp-content/uploads/2023/10/Wochenmarkt-scaled-e1698703250730.webp
ORGANIZER;CN="Gemeinde Unterf%C3%B6hring":MAILTO:info@unterfoehring.de
END:VEVENT
END:VCALENDAR